BEGIN:VCALENDAR
VERSION:2.0
PRODID:-//European American Chamber of Commerce Texas [EACCTX] | Your Partner for Transatlantic Business Resources - ECPv6.15.20//NONSGML v1.0//EN
CALSCALE:GREGORIAN
METHOD:PUBLISH
X-ORIGINAL-URL:https://www.eacctx.com
X-WR-CALDESC:Events for European American Chamber of Commerce Texas [EACCTX] | Your Partner for Transatlantic Business Resources
REFRESH-INTERVAL;VALUE=DURATION:PT1H
X-Robots-Tag:noindex
X-PUBLISHED-TTL:PT1H
BEGIN:VTIMEZONE
TZID:America/New_York
BEGIN:DAYLIGHT
TZOFFSETFROM:-0500
TZOFFSETTO:-0400
TZNAME:EDT
DTSTART:20220313T070000
END:DAYLIGHT
BEGIN:STANDARD
TZOFFSETFROM:-0400
TZOFFSETTO:-0500
TZNAME:EST
DTSTART:20221106T060000
END:STANDARD
BEGIN:DAYLIGHT
TZOFFSETFROM:-0500
TZOFFSETTO:-0400
TZNAME:EDT
DTSTART:20230312T070000
END:DAYLIGHT
BEGIN:STANDARD
TZOFFSETFROM:-0400
TZOFFSETTO:-0500
TZNAME:EST
DTSTART:20231105T060000
END:STANDARD
BEGIN:DAYLIGHT
TZOFFSETFROM:-0500
TZOFFSETTO:-0400
TZNAME:EDT
DTSTART:20240310T070000
END:DAYLIGHT
BEGIN:STANDARD
TZOFFSETFROM:-0400
TZOFFSETTO:-0500
TZNAME:EST
DTSTART:20241103T060000
END:STANDARD
END:VTIMEZONE
BEGIN:VEVENT
DTSTART;TZID=America/New_York:20230531T183000
DTEND;TZID=America/New_York:20230531T203000
DTSTAMP:20260421T131216
CREATED:20230515T155306Z
LAST-MODIFIED:20230515T155306Z
UID:47857-1685557800-1685565000@www.eacctx.com
SUMMARY:HC of Sweden Dallas & SACC Dallas: DreamHack FIRESIDE CHAT + WINE & CHEESE RECEPTION
DESCRIPTION:in Cooperation with\n\n\n\n\n\n\n\n\n\n\n\n\n\n\n\nThe event is free\, but there is limited space so please register to attend.\nThere will be cheese boards and a cash wine bar.\n REGISTER NOW\n(Registration is required) \nDownload the event flyer here.\n\n\n\n\n\n\n  \nREGISTER HERE\n  \n\nTimes Ten Too\,\n 6324 Prospect Ave.\, Dallas\, TX 75214
URL:https://www.eacctx.com/2event/sacc-tx-cross-dreamhack-dallas/
LOCATION:Times Ten Too\, 6324 Prospect Ave\, Dallas\, TX\, 75214\, United States
CATEGORIES:Partner Events
END:VEVENT
END:VCALENDAR