BEGIN:VCALENDAR
VERSION:2.0
PRODID:-//European American Chamber of Commerce Texas [EACCTX] | Your Partner for Transatlantic Business Resources - ECPv6.15.20//NONSGML v1.0//EN
CALSCALE:GREGORIAN
METHOD:PUBLISH
X-WR-CALNAME:European American Chamber of Commerce Texas [EACCTX] | Your Partner for Transatlantic Business Resources
X-ORIGINAL-URL:https://www.eacctx.com
X-WR-CALDESC:Events for European American Chamber of Commerce Texas [EACCTX] | Your Partner for Transatlantic Business Resources
REFRESH-INTERVAL;VALUE=DURATION:PT1H
X-Robots-Tag:noindex
X-PUBLISHED-TTL:PT1H
BEGIN:VTIMEZONE
TZID:America/Chicago
BEGIN:DAYLIGHT
TZOFFSETFROM:-0600
TZOFFSETTO:-0500
TZNAME:CDT
DTSTART:20220313T080000
END:DAYLIGHT
BEGIN:STANDARD
TZOFFSETFROM:-0500
TZOFFSETTO:-0600
TZNAME:CST
DTSTART:20221106T070000
END:STANDARD
BEGIN:DAYLIGHT
TZOFFSETFROM:-0600
TZOFFSETTO:-0500
TZNAME:CDT
DTSTART:20230312T080000
END:DAYLIGHT
BEGIN:STANDARD
TZOFFSETFROM:-0500
TZOFFSETTO:-0600
TZNAME:CST
DTSTART:20231105T070000
END:STANDARD
BEGIN:DAYLIGHT
TZOFFSETFROM:-0600
TZOFFSETTO:-0500
TZNAME:CDT
DTSTART:20240310T080000
END:DAYLIGHT
BEGIN:STANDARD
TZOFFSETFROM:-0500
TZOFFSETTO:-0600
TZNAME:CST
DTSTART:20241103T070000
END:STANDARD
END:VTIMEZONE
BEGIN:VEVENT
DTSTART;TZID=America/Chicago:20230509T180000
DTEND;TZID=America/Chicago:20230509T200000
DTSTAMP:20260421T144746
CREATED:20230425T183632Z
LAST-MODIFIED:20230425T184332Z
UID:47768-1683655200-1683662400@www.eacctx.com
SUMMARY:Europe Day - Houston
DESCRIPTION:  \nThe European American Chamber of Commerce Texas \nand the Honorary Consulate of Sweden in Houston \nare delighted to invite you to celebrate\nEurope Day\nTuesday\, May 9th\nat IKEA Houston\n6:00 PM – 8:00 PM\n\nOn this day\, 73 years ago\, French Foreign Minister Robert Schuman put forward the idea for what would eventually become the European Union. His vision became a reality with the signature of the Treaty of the European Union in Maastricht. Schuman’s animating principle was that closer cooperation and creative thinking could bring lasting peace in Europe and around the world. That same spirit continues to inspire cooperation\, both within the EU and across the Atlantic Ocean.\n\nThe U.S.-EU partnership has grown deeper and stronger in the decades since\, expanding to encompass the full range of regional and global challenges that we face together\, but also as we build the opportunities of the future.\n\n\nFree to attend / Registration required\nWine & light Hors d’oeuvres are included.\nREGISTER HERE\n \n 
URL:https://www.eacctx.com/2event/europe-day-houston/
LOCATION:Ikea Houston\, 7810 Katy Freeway\, HOUSTON\, TX\, 77024\, United States
CATEGORIES:events,upcoming
ORGANIZER;CN="EACC Texas":MAILTO:info@eacctx.com
END:VEVENT
END:VCALENDAR