BEGIN:VCALENDAR
VERSION:2.0
PRODID:-//European American Chamber of Commerce Texas [EACCTX] | Your Partner for Transatlantic Business Resources - ECPv6.15.20//NONSGML v1.0//EN
CALSCALE:GREGORIAN
METHOD:PUBLISH
X-WR-CALNAME:European American Chamber of Commerce Texas [EACCTX] | Your Partner for Transatlantic Business Resources
X-ORIGINAL-URL:https://www.eacctx.com
X-WR-CALDESC:Events for European American Chamber of Commerce Texas [EACCTX] | Your Partner for Transatlantic Business Resources
REFRESH-INTERVAL;VALUE=DURATION:PT1H
X-Robots-Tag:noindex
X-PUBLISHED-TTL:PT1H
BEGIN:VTIMEZONE
TZID:Europe/Paris
BEGIN:DAYLIGHT
TZOFFSETFROM:+0100
TZOFFSETTO:+0200
TZNAME:CEST
DTSTART:20220327T010000
END:DAYLIGHT
BEGIN:STANDARD
TZOFFSETFROM:+0200
TZOFFSETTO:+0100
TZNAME:CET
DTSTART:20221030T010000
END:STANDARD
BEGIN:DAYLIGHT
TZOFFSETFROM:+0100
TZOFFSETTO:+0200
TZNAME:CEST
DTSTART:20230326T010000
END:DAYLIGHT
BEGIN:STANDARD
TZOFFSETFROM:+0200
TZOFFSETTO:+0100
TZNAME:CET
DTSTART:20231029T010000
END:STANDARD
BEGIN:DAYLIGHT
TZOFFSETFROM:+0100
TZOFFSETTO:+0200
TZNAME:CEST
DTSTART:20240331T010000
END:DAYLIGHT
BEGIN:STANDARD
TZOFFSETFROM:+0200
TZOFFSETTO:+0100
TZNAME:CET
DTSTART:20241027T010000
END:STANDARD
END:VTIMEZONE
BEGIN:VEVENT
DTSTART;TZID=Europe/Paris:20230413T124500
DTEND;TZID=Europe/Paris:20230413T141500
DTSTAMP:20260421T162343
CREATED:20230331T221859Z
LAST-MODIFIED:20230331T221859Z
UID:47663-1681389900-1681395300@www.eacctx.com
SUMMARY:EACC Paris: Déjeuner et échange avec Dr. Alexandra de Hoop Scheffer
DESCRIPTION:  \n  \n\n\nDéjeuner et échange avec Dr. Alexandra de Hoop Scheffer\n\n“Un an après l’invasion russe en Ukraine: Comment les Etats-Unis et l’Europe ajustent leurs positions dans un ordre mondial en mutation ?”\n\n\n\n\n\n  \nDr. Alexandra de HOOP SCHEFFER\nPolitologue\, spécialiste des relations transatlantiques et internationales\nSenior Vice-Présidente et membre du Comité exécutif\nGerman Marshall Fund of the United States\n\n\n\n  \n  \n  \n  \n  \n\n  \nCercle de l’Union Interalliée \n33 rue du Faubourg Saint Honore\, 75008 Paris\n \nFor more information\, please contact Catherine Zdziechowski\n 
URL:https://www.eacctx.com/2event/eacc-paris-dejeuner-et-echange-avec-dr-alexandra-de-hoop-scheffer/
CATEGORIES:Partner Events
END:VEVENT
END:VCALENDAR