BEGIN:VCALENDAR
VERSION:2.0
PRODID:-//European American Chamber of Commerce Texas [EACCTX] | Your Partner for Transatlantic Business Resources - ECPv6.15.20//NONSGML v1.0//EN
CALSCALE:GREGORIAN
METHOD:PUBLISH
X-WR-CALNAME:European American Chamber of Commerce Texas [EACCTX] | Your Partner for Transatlantic Business Resources
X-ORIGINAL-URL:https://www.eacctx.com
X-WR-CALDESC:Events for European American Chamber of Commerce Texas [EACCTX] | Your Partner for Transatlantic Business Resources
REFRESH-INTERVAL;VALUE=DURATION:PT1H
X-Robots-Tag:noindex
X-PUBLISHED-TTL:PT1H
BEGIN:VTIMEZONE
TZID:Europe/Paris
BEGIN:DAYLIGHT
TZOFFSETFROM:+0100
TZOFFSETTO:+0200
TZNAME:CEST
DTSTART:20220327T010000
END:DAYLIGHT
BEGIN:STANDARD
TZOFFSETFROM:+0200
TZOFFSETTO:+0100
TZNAME:CET
DTSTART:20221030T010000
END:STANDARD
BEGIN:DAYLIGHT
TZOFFSETFROM:+0100
TZOFFSETTO:+0200
TZNAME:CEST
DTSTART:20230326T010000
END:DAYLIGHT
BEGIN:STANDARD
TZOFFSETFROM:+0200
TZOFFSETTO:+0100
TZNAME:CET
DTSTART:20231029T010000
END:STANDARD
BEGIN:DAYLIGHT
TZOFFSETFROM:+0100
TZOFFSETTO:+0200
TZNAME:CEST
DTSTART:20240331T010000
END:DAYLIGHT
BEGIN:STANDARD
TZOFFSETFROM:+0200
TZOFFSETTO:+0100
TZNAME:CET
DTSTART:20241027T010000
END:STANDARD
END:VTIMEZONE
BEGIN:VEVENT
DTSTART;TZID=Europe/Paris:20230405T110000
DTEND;TZID=Europe/Paris:20230405T140000
DTSTAMP:20260421T162344
CREATED:20230331T220838Z
LAST-MODIFIED:20230331T220838Z
UID:47655-1680692400-1680703200@www.eacctx.com
SUMMARY:EACC Paris: Exchange with the GlobalWIN Delegation
DESCRIPTION:Join us for an exchange and networking lunch at the Cercle Interalliée with a delegation of 40 members of the Global Women’s Innovation Network (GlobalWIN)\, a bipartisan\, non-profit organization based in Washington\, D.C.\, which brings together innovation-driven American women who occupy leadership positions in Congress and multinational corporations.\nDiscussions will be moderated by Christopher Weissberg – President of the France-USA Friendship Group of the Assemblée Nationale\, alongside Brooke Bennet\, Chief of Staff at the Office of Congressman French Hill.\nOpen to premium members\, 1-2 representatives per company and invited guests.\nFor more information about GlobalWIN\, click here\n\nFor more information\, please contact Catherine Zdziechowski\nDress Code: Tenue de ville.\nThe Cercle de l’Union Interalliée requires men to wear jacket and tie.\nJeans and sports shoes are not permitted.
URL:https://www.eacctx.com/2event/eacc-paris-exchange-with-the-globalwin-delegation/
CATEGORIES:Partner Events
END:VEVENT
END:VCALENDAR