BEGIN:VCALENDAR
VERSION:2.0
PRODID:-//European American Chamber of Commerce Texas [EACCTX] | Your Partner for Transatlantic Business Resources - ECPv6.15.20//NONSGML v1.0//EN
CALSCALE:GREGORIAN
METHOD:PUBLISH
X-WR-CALNAME:European American Chamber of Commerce Texas [EACCTX] | Your Partner for Transatlantic Business Resources
X-ORIGINAL-URL:https://www.eacctx.com
X-WR-CALDESC:Events for European American Chamber of Commerce Texas [EACCTX] | Your Partner for Transatlantic Business Resources
REFRESH-INTERVAL;VALUE=DURATION:PT1H
X-Robots-Tag:noindex
X-PUBLISHED-TTL:PT1H
BEGIN:VTIMEZONE
TZID:America/New_York
BEGIN:DAYLIGHT
TZOFFSETFROM:-0500
TZOFFSETTO:-0400
TZNAME:EDT
DTSTART:20220313T070000
END:DAYLIGHT
BEGIN:STANDARD
TZOFFSETFROM:-0400
TZOFFSETTO:-0500
TZNAME:EST
DTSTART:20221106T060000
END:STANDARD
BEGIN:DAYLIGHT
TZOFFSETFROM:-0500
TZOFFSETTO:-0400
TZNAME:EDT
DTSTART:20230312T070000
END:DAYLIGHT
BEGIN:STANDARD
TZOFFSETFROM:-0400
TZOFFSETTO:-0500
TZNAME:EST
DTSTART:20231105T060000
END:STANDARD
BEGIN:DAYLIGHT
TZOFFSETFROM:-0500
TZOFFSETTO:-0400
TZNAME:EDT
DTSTART:20240310T070000
END:DAYLIGHT
BEGIN:STANDARD
TZOFFSETFROM:-0400
TZOFFSETTO:-0500
TZNAME:EST
DTSTART:20241103T060000
END:STANDARD
END:VTIMEZONE
BEGIN:VEVENT
DTSTART;TZID=America/New_York:20230330T150000
DTEND;TZID=America/New_York:20230330T180000
DTSTAMP:20260421T162342
CREATED:20230320T204104Z
LAST-MODIFIED:20230320T204104Z
UID:46560-1680188400-1680199200@www.eacctx.com
SUMMARY:Jaymar Furniture : Open House for the New Jaymar Furniture Showroom
DESCRIPTION:You are cordially invited by EACC Texas Member\, Jaymar Furniture \nto the Open House for the NEW Jaymar Furniture Showroom in Carrollton\n\n  \n\n  \nASID Industry Partner Jaymar\, a manufacturer of high-end and custom-made upholstered furniture handcrafted in Dallas\, invites designers\, integrators and people of the industry\, to explore their brand new showroom.  \nDuring their Open House enjoy Happy Hour while listening to a panel of design experts discuss topics related to Residential\, Commercial\, and Hospitality design.  \nGuests will also experience a demonstration of Home Theatre D-BOX Technology. \n• Visit of the Factory \n• Visit of the Showroom \n• Discuss with Jaymar team and networking with designers\, integrators\, home builders etc. \n• Presentation of differents experts in the furniture industry \n• Cocktails and Light Bites \n• Welcome present \nRegistration Required \n  \n  \nREGISTER HERE
URL:https://www.eacctx.com/2event/jaymar-furniture-open-house-for-the-new-jaymar-furniture-showroom/
LOCATION:1625 W Crosby Rd #100 1625 West\, 1625 W Crosby Rd #100 1625 West\, CARROLLTON\, TX\, 75006
CATEGORIES:Partner Events
END:VEVENT
END:VCALENDAR