BEGIN:VCALENDAR
VERSION:2.0
PRODID:-//European American Chamber of Commerce Texas [EACCTX] | Your Partner for Transatlantic Business Resources - ECPv6.15.20//NONSGML v1.0//EN
CALSCALE:GREGORIAN
METHOD:PUBLISH
X-WR-CALNAME:European American Chamber of Commerce Texas [EACCTX] | Your Partner for Transatlantic Business Resources
X-ORIGINAL-URL:https://www.eacctx.com
X-WR-CALDESC:Events for European American Chamber of Commerce Texas [EACCTX] | Your Partner for Transatlantic Business Resources
REFRESH-INTERVAL;VALUE=DURATION:PT1H
X-Robots-Tag:noindex
X-PUBLISHED-TTL:PT1H
BEGIN:VTIMEZONE
TZID:America/Chicago
BEGIN:DAYLIGHT
TZOFFSETFROM:-0600
TZOFFSETTO:-0500
TZNAME:CDT
DTSTART:20220313T080000
END:DAYLIGHT
BEGIN:STANDARD
TZOFFSETFROM:-0500
TZOFFSETTO:-0600
TZNAME:CST
DTSTART:20221106T070000
END:STANDARD
BEGIN:DAYLIGHT
TZOFFSETFROM:-0600
TZOFFSETTO:-0500
TZNAME:CDT
DTSTART:20230312T080000
END:DAYLIGHT
BEGIN:STANDARD
TZOFFSETFROM:-0500
TZOFFSETTO:-0600
TZNAME:CST
DTSTART:20231105T070000
END:STANDARD
BEGIN:DAYLIGHT
TZOFFSETFROM:-0600
TZOFFSETTO:-0500
TZNAME:CDT
DTSTART:20240310T080000
END:DAYLIGHT
BEGIN:STANDARD
TZOFFSETFROM:-0500
TZOFFSETTO:-0600
TZNAME:CST
DTSTART:20241103T070000
END:STANDARD
END:VTIMEZONE
BEGIN:VEVENT
DTSTART;TZID=America/Chicago:20230228T080000
DTEND;TZID=America/Chicago:20230228T090000
DTSTAMP:20260421T175820
CREATED:20230214T162112Z
LAST-MODIFIED:20230214T162925Z
UID:47335-1677571200-1677574800@www.eacctx.com
SUMMARY:EACC NY: Webinar | Supply Chain Resilience in Light of New Geopolitical Realities
DESCRIPTION:  \n \n  \nThe discussion of supply chain resilience has moved from conjecture to hard reality. At the same time\, geopolitical competition\, pandemic repercussions and shape-shifting impacts from the War in Ukraine are driving a realignment of geopolitical relationships and new trade and supply chain footprints. \nTransatlantic relations and trade are a key feature of these resilience objectives. Yet they are also host to a number of geopolitical factors as countries\, economic blocs and companies seek the resilience needed in a more volatile world. \nJoin us for real-time insights on these trends and an outlook how the next 12 months may unfold. Our panel will unpack the challenges of staying resilient against the backdrop of geopolitics\, Climate change and ESG requirements. \nWe will analyze why resilience is still such a burning issue\, how governments are addressing the subject and how corporates are responding. \nAGENDA:\n• Driving forces for supply chain resilience\n• The transatlantic response to China-Western decoupling and the War in Ukraine\n• Perspectives on the US Inflation Reduction Act and the EU response\n• Balancing self-sufficiency objectives with interdependence\n• Opportunities and challenges for the climate transition\n• Geopolitical realities facing manufacturers\, private equity firms\, multinationals\, traders\, financial institutions and how are those impacting the supply chain\n• What is the potential impact on the balance sheet and the P & L\n• How can corporations de-risk their global exposures\n• What is the suite of products available to de-risk these exposure from an individual sector perspective\n• Examples of how these products have been utilized in the recent past \n\nSPEAKERS:\n• Douglas M. Bell\, Global Trade Policy Leader\, EY\n• Ajit Menon\, Managing Director and Head of Structured Trade Solutions\, HSBC\n• Corina Monaghan\, SVP – Head of Political Risk & Trade Credit\, AIG [TBC] \nREGISTRATION FEE:\nEACCNY Members: Free\nEACCNY non-Members: Free \n\nLOCATION: Online\n\nTIME:\n8:00 AM – 9:00 AM CT\nREGISTRATION FEE:\nEACCTX Members: Free\nEACCTX non-Members: Free\n\n  \nREGISTER HERE\n  \n\n 
URL:https://www.eacctx.com/2event/eacc-ny-webinar-supply-chain-resilience/
CATEGORIES:Partner Events
END:VEVENT
END:VCALENDAR