BEGIN:VCALENDAR
VERSION:2.0
PRODID:-//European American Chamber of Commerce Texas [EACCTX] | Your Partner for Transatlantic Business Resources - ECPv6.15.20//NONSGML v1.0//EN
CALSCALE:GREGORIAN
METHOD:PUBLISH
X-WR-CALNAME:European American Chamber of Commerce Texas [EACCTX] | Your Partner for Transatlantic Business Resources
X-ORIGINAL-URL:https://www.eacctx.com
X-WR-CALDESC:Events for European American Chamber of Commerce Texas [EACCTX] | Your Partner for Transatlantic Business Resources
REFRESH-INTERVAL;VALUE=DURATION:PT1H
X-Robots-Tag:noindex
X-PUBLISHED-TTL:PT1H
BEGIN:VTIMEZONE
TZID:America/New_York
BEGIN:DAYLIGHT
TZOFFSETFROM:-0500
TZOFFSETTO:-0400
TZNAME:EDT
DTSTART:20220313T070000
END:DAYLIGHT
BEGIN:STANDARD
TZOFFSETFROM:-0400
TZOFFSETTO:-0500
TZNAME:EST
DTSTART:20221106T060000
END:STANDARD
BEGIN:DAYLIGHT
TZOFFSETFROM:-0500
TZOFFSETTO:-0400
TZNAME:EDT
DTSTART:20230312T070000
END:DAYLIGHT
BEGIN:STANDARD
TZOFFSETFROM:-0400
TZOFFSETTO:-0500
TZNAME:EST
DTSTART:20231105T060000
END:STANDARD
BEGIN:DAYLIGHT
TZOFFSETFROM:-0500
TZOFFSETTO:-0400
TZNAME:EDT
DTSTART:20240310T070000
END:DAYLIGHT
BEGIN:STANDARD
TZOFFSETFROM:-0400
TZOFFSETTO:-0500
TZNAME:EST
DTSTART:20241103T060000
END:STANDARD
END:VTIMEZONE
BEGIN:VEVENT
DTSTART;TZID=America/New_York:20230216T160000
DTEND;TZID=America/New_York:20230216T180000
DTSTAMP:20260421T193835
CREATED:20230203T180219Z
LAST-MODIFIED:20230203T180219Z
UID:47158-1676563200-1676570400@www.eacctx.com
SUMMARY:BABC Texas: In-Person / Networking | THE QUEST FOR PERFECT DATA IS A FOOL’S ERRAND
DESCRIPTION:  \n \n\n\n\n\n\n\n\n\n\n\n\n\n\n\n  \nRefreshments and light bites provided \n\nEvent Brief: \nOrganizations are not getting more efficient despite gathering more and more data. \nBABC Texas members Garner and BJSS believe there are two core reasons why efficiency is not improving. \n1. The misguided myth that only perfect data will reveal the truth. Businesses are searching under couch cushions for every byte of data\, polishing red herrings and expecting to catch white whales. \n2. The mischaracterization of organizations as machines. In reality\, every business unit operates as a human community. \nJoin Mark Childerson\, Product Manager\, Garner and Mitch Hollander\, Data Engineer\, BJSS as they provide a better understanding of how to operate a data-driven community — or at least how not to. \nRegister via the link below. \n\n\n\nREGISTER HERE\n  \n\n 
URL:https://www.eacctx.com/2event/babc-texas-the-quest-for-perfect-data-is-a-fool-errand/
LOCATION:Munsch Hardt Offices\, 700 Milan St\, Suite 800\, 8th Floor\, HOUSTON\, TX\, 77002
CATEGORIES:Partner Events
END:VEVENT
END:VCALENDAR