BEGIN:VCALENDAR
VERSION:2.0
PRODID:-//European American Chamber of Commerce Texas [EACCTX] | Your Partner for Transatlantic Business Resources - ECPv6.15.20//NONSGML v1.0//EN
CALSCALE:GREGORIAN
METHOD:PUBLISH
X-ORIGINAL-URL:https://www.eacctx.com
X-WR-CALDESC:Events for European American Chamber of Commerce Texas [EACCTX] | Your Partner for Transatlantic Business Resources
REFRESH-INTERVAL;VALUE=DURATION:PT1H
X-Robots-Tag:noindex
X-PUBLISHED-TTL:PT1H
BEGIN:VTIMEZONE
TZID:America/Chicago
BEGIN:DAYLIGHT
TZOFFSETFROM:-0600
TZOFFSETTO:-0500
TZNAME:CDT
DTSTART:20210314T080000
END:DAYLIGHT
BEGIN:STANDARD
TZOFFSETFROM:-0500
TZOFFSETTO:-0600
TZNAME:CST
DTSTART:20211107T070000
END:STANDARD
BEGIN:DAYLIGHT
TZOFFSETFROM:-0600
TZOFFSETTO:-0500
TZNAME:CDT
DTSTART:20220313T080000
END:DAYLIGHT
BEGIN:STANDARD
TZOFFSETFROM:-0500
TZOFFSETTO:-0600
TZNAME:CST
DTSTART:20221106T070000
END:STANDARD
BEGIN:DAYLIGHT
TZOFFSETFROM:-0600
TZOFFSETTO:-0500
TZNAME:CDT
DTSTART:20230312T080000
END:DAYLIGHT
BEGIN:STANDARD
TZOFFSETFROM:-0500
TZOFFSETTO:-0600
TZNAME:CST
DTSTART:20231105T070000
END:STANDARD
END:VTIMEZONE
BEGIN:VEVENT
DTSTART;TZID=America/Chicago:20221130T100000
DTEND;TZID=America/Chicago:20221130T110000
DTSTAMP:20260421T225502
CREATED:20221031T154512Z
LAST-MODIFIED:20221110T155947Z
UID:46616-1669802400-1669806000@www.eacctx.com
SUMMARY:EACC NY: Webinar | The EU-US Relationship Beyond the US Midterm Elections
DESCRIPTION:EACC NY: Webinar | The EU-US Relationship Beyond the US Midterm Elections\n\n\nIssues on the table include:\n\n\n\n\nNATO: US leadership current Involvement in Ukraine\nCollaboration with the EU on technology and innovation\,the future of the EU/US Trade & Technology Council\nEnvironment: Support for a Green Transition on both sides of the Atlantic\, incl. joint efforts too upgrade ailing Infrastructure\nUnited Nations: Collaboration on the global stage incl. in the UN Security Council\nTrade/Tarrifs and WTO Reforms\nCollaboration on Sanctions\nCoordinated Monetary policy to address Inflation\nTaxation/Business: Global Minimum Tax and other reforms planned in the U.S. and across Europe\n\n \n\nLocation:\nOnline\n\nTIME:\n10:00 AM – 11:00 AM CT\nREGISTRATION FEE:\nEACCTX Members: Free\nEACCTX non-Members: Free\n\n  \nREGISTER HERE\n\n 
URL:https://www.eacctx.com/2event/https-eaccny-com-events-event_id1152/
CATEGORIES:Partner Events
END:VEVENT
BEGIN:VEVENT
DTSTART;TZID=America/Chicago:20221130T100000
DTEND;TZID=America/Chicago:20221130T110000
DTSTAMP:20260421T225502
CREATED:20221102T214906Z
LAST-MODIFIED:20221102T214906Z
UID:46650-1669802400-1669806000@www.eacctx.com
SUMMARY:BABC Texas: Webinar | ESTATE PLANNING: U.S. ESTATE CONSIDERATIONS FOR NON-CITIZENS
DESCRIPTION:                                 \n\n\n\n\n\nLET’S TALK ESTATE PLANNING: U.S. ESTATE CONSIDERATIONS FOR NON-CITIZENS\n\nAre you a non-U.S. citizen working and living in the United States? Have you wondered whether you need a will\, trust or other documents while here? Join Jackson Walker for a discussion about estate issues that citizens of the U.K. and other countries face when they decide to reside in the U.S.\, either temporarily or long-term. Learn how to create an estate plan that will not only reduce future taxes and costs but also minimize the risk of disputes between beneficiaries.\n\nWe’ll address such questions as: \n\nWhat is estate planning and is it necessary for non-U.S. citizens?\nShould I consider executing a U.S. will or trust\, even if I only plan to be here for a limited period of time?  Does Texas require me to leave my assets in a certain way?\nWhat happens if I pass away unexpectedly and I don’t have a will?\nIf I were to die in the U.S. as a non-citizen\, where will my estate be administered?\nIn the event of my death\, what arrangements can/should be made for my children if they are minors?\nWhat if I become incapacitated while living in the U.S.?\nDoes the U.S. have an estate tax or inheritance tax at death?\nWhat are the differences between estate taxation of U.S. citizens and non-citizens?\nWhat are the differences between estate taxation of U.S. residents and non-residents?\nIf I plan to live in the U.S. indefinitely but remain a non-citizen\, what considerations do I need to make in my estate plan?\nIs there a way to avoid having my estate subject to U.S. estate taxes?\n\nRegister here and a Zoom link will be sent ahead of the event. \n  \nFind out more Scott A. Schepps and Sarah Patel Pacheco \n  \n\n\n\n\n\n\nVenue\nVirtual\n\n\nStarts\nTue Nov 15 2022\, 12:00pm CST\n\n\nEnds\nTue Nov 15 2022\, 01:00pm CST\n\n\n\n\n  \nREGISTER HERE
URL:https://www.eacctx.com/2event/babc-texas-webinar-estate-planning-u-s-estate-considerations-for-non-citizens/
CATEGORIES:Partner Events
END:VEVENT
END:VCALENDAR