BEGIN:VCALENDAR
VERSION:2.0
PRODID:-//European American Chamber of Commerce Texas [EACCTX] | Your Partner for Transatlantic Business Resources - ECPv6.15.20//NONSGML v1.0//EN
CALSCALE:GREGORIAN
METHOD:PUBLISH
X-WR-CALNAME:European American Chamber of Commerce Texas [EACCTX] | Your Partner for Transatlantic Business Resources
X-ORIGINAL-URL:https://www.eacctx.com
X-WR-CALDESC:Events for European American Chamber of Commerce Texas [EACCTX] | Your Partner for Transatlantic Business Resources
REFRESH-INTERVAL;VALUE=DURATION:PT1H
X-Robots-Tag:noindex
X-PUBLISHED-TTL:PT1H
BEGIN:VTIMEZONE
TZID:America/New_York
BEGIN:DAYLIGHT
TZOFFSETFROM:-0500
TZOFFSETTO:-0400
TZNAME:EDT
DTSTART:20210314T070000
END:DAYLIGHT
BEGIN:STANDARD
TZOFFSETFROM:-0400
TZOFFSETTO:-0500
TZNAME:EST
DTSTART:20211107T060000
END:STANDARD
BEGIN:DAYLIGHT
TZOFFSETFROM:-0500
TZOFFSETTO:-0400
TZNAME:EDT
DTSTART:20220313T070000
END:DAYLIGHT
BEGIN:STANDARD
TZOFFSETFROM:-0400
TZOFFSETTO:-0500
TZNAME:EST
DTSTART:20221106T060000
END:STANDARD
BEGIN:DAYLIGHT
TZOFFSETFROM:-0500
TZOFFSETTO:-0400
TZNAME:EDT
DTSTART:20230312T070000
END:DAYLIGHT
BEGIN:STANDARD
TZOFFSETFROM:-0400
TZOFFSETTO:-0500
TZNAME:EST
DTSTART:20231105T060000
END:STANDARD
END:VTIMEZONE
BEGIN:VEVENT
DTSTART;TZID=America/New_York:20220928T100000
DTEND;TZID=America/New_York:20220928T160000
DTSTAMP:20260422T015634
CREATED:20220823T204337Z
LAST-MODIFIED:20220914T194806Z
UID:46244-1664359200-1664380800@www.eacctx.com
SUMMARY:WEBINAR – The EU’s New Tech Rules and their Impact on Transatlantic Business: what do you need to know and how should you prepare?
DESCRIPTION:Do you remember the EU’s GDPR and its extra-territorial impact on companies based outside of Europe? \n  \nThe EU’s Digital Services Act (DSA) and Digital Markets Act (DMA)\, together\, will form a single set of new rules that will be applicable to online intermediaries and digital platforms in the EU. These rules will also apply to online intermediaries and companies established outside of the European Union offering their services in Europe. They are scheduled to come into force in 2024 – or sooner for some type of companies – and might impact you. \n  \nAre you a US company already offering online services or products to clients in the EU? Are you considering expanding your online business to Europe? Are you a start-up or scale-up still developing your business model with an eye on Europe? \n  \nDon’t be caught unprepared! \n  \nJoin us to find out what type of businesses/services/products will be covered by the DSA-DMA Package\, what you need to know to anticipate on these new rules and how to build them into your business model. \n\n\n\n\n\nTopics to be addressed \n\nWhat are the DMA and DSA?\nWhich online services will be impacted and what type of companies should be concerned?\nHow will the DSM and DMA fit into the EU’s array of tech legislation alongside the 2016 General Data Protection Regulation?\nWhat role will the EU/US Trade & Technology Council have with regard to the implementation of these rules and their impact on US companies?\nWhat routes might the U.S. take as it considers similar regulations on tech companies?\nWhat concretely can you do to prepare and what is the timeline?\n\n\n\n\nSPEAKERS \n\nLucinda Creighton\, CEO of Vulcan Consulting Ltd\nPeter Fatelnig\, Minister-Cousellor for Digital Economy Policy – EU Delegation in Washington DC\nFrancesco Liberatore\, Partner – Squire Patton Boggs\nAlan Sutin\, Chair of the Technology\, Media & Telecommunications Practice and Senior Chair of the Global Intellectual Property & Technology Practice – Greenberg Traurig [Moderator]\n\n\n\n\n\n\nSPEAKER BIOS \n\n\n\n\n\n\n\n\n\n\n\n\n\n\n\n\n\n\n\nLucinda Creighton \nLucinda Creighton CEO of Vulcan Consulting Ltd\, is a barrister\, qualified New York attorney\, former Irish Minister for European Affairs and Member of the Irish Parliament. As Minister for European Affairs she represented Ireland in key negotiations on Ireland’s EU/IMF bailout\, leading to a reduction in interest rates and the extension of Ireland’s repayment schedules. She has extensive knowledge of the EU bureaucratic infrastructure and regulatory system. \nAs CEO of Vulcan Consulting\, she works closely with CEOs and senior management teams to assist them in understanding and navigating the political\, policy and decision-making environment in Europe and Ireland. A regular keynote speaker at industry sponsored events and roundtables\, Creighton also advises firms on political engagement. Since June 2016 she has worked with several corporate clients on Brexit contingency planning\, particularly in the fields of banking and asset management. She is in high demand in the United States and across Europe to speak at conferences and to provide in-depth briefings on EU and Irish political and regulatory changes. \nDuring Ireland’s Presidency of the Council of European Union\, Creighton led negotiations with 28 Member States on the €960 billion EU Budget\, as well as representing the continent in bilateral trade discussions in the United States\, leading to the start of formal TTIP negotiations. She was also involved in the negotiations between the Commission\, Council and Parliament on the MiFID II Regulatory Framework. She also served for three years as Vice President of the European People’s Party (EPP) alongside a number of EU Commissioners and other Ministers. \nLucinda maintains a deep interest and expertise in Foreign Policy issues. She is an Advisory Board member of the Washington DC based International Republican Institute (IRI) as well as being an active Council member of the European Council on Foreign Relations (ECFR). The ECFR comprises many former and serving Prime Ministers\, Ministers\, EU Commissioners and leading academics. \n\n\n\n\n\n\n\n\n\n\n\n\n\n\n\n\n\n\n\n\n\n\n\nPeter Fatelnig \nPeter Fatelnig is Minister-Counsellor for Digital Economy Policy at the Delegation of the European Union to the United States and resides in Washington DC since 2018. Since then\, digital economy policy became a top-priority in the EU-US relations. He is instrumental in defining the US relations in the Trade & Technology Council\, drives the US narrative on European key policies such as the Digital Services Act or on AI. A senior manager at the European Commission since 1998 he is committed to a positive European vision of a society and economy increasingly driven by technology. Prior to the EU he worked on international assignments for the strategy consulting firm American Management Systems\, and for the European Space Agency\, in the Netherlands. Peter holds a Master degree in Communication Engineering from the University of Technology in Graz\, Austria\, is a senior member of the IEEE and alumni of the ’93 class of the International Space University. He is married and has raised two daughters. \nThe EU Delegation was first established in Washington\, DC in 1954 and now represents the European Union across the United States. It has expanded to host staff of the European Parliament Liaison Office\, EUROPOL\, the European Central Bank\, the European Investment Bank and the European Air Safety Agency. \nhttps://www.linkedin.com/in/peterfatelnig \n@PeterFatelnig \n\n\n\n\n\n\n\n\n\n\n\n\n\n\n\n\n\n\n\n\n\n\n\nFrancesco Liberatore \nFrancesco Liberatore is Partner at Squire Patton Boggs. He advises clients on all aspects of the application of competition law\, in particular in technology driven and digital economy sectors. His experience also focusses on communications law and he coordinates the firm’s EMEA Communications Practice. \nHe regularly represents clients in investigations before regulatory and competition authorities\, as well as managing internal investigations\, dawn raids and counseling on compliance issues and various commercial agreements. Francesco handles merger control due diligence and filings\, as well as coordinating multijurisdictional merger control strategies. He also advises private equity investors\, banks and other financial investors on arbitrage opportunities. Francesco’s litigation experience includes representing clients in matters before the Competition Appeal Tribunal\, the High Court of Justice and the European Courts. Francesco is based in London. \n\n\n\n\n\n\n\n\n\n\n\n\n\n\n\n\n\n\n\n\n\n\n\nAlan Sutin \nAlan Sutin is a Principal Shareholder of Greenberg Traurig and Senior Chair of the firm’s Global Intellectual Property & Technology Practice. In addition to being an experienced business lawyer with a principal focus on commercial transactions with intellectual property and technology issues and privacy and cybersecurity matters\, Alan also represents a wide variety of companies in connection with IT and business process outsourcing arrangements\, strategic alliance agreements\, commercial joint ventures and licensing matters. He has particular experience in Internet and electronic commerce issues and has been involved in many of the major policy issues surrounding the commercial development of the Internet. Alan has advised foreign governments and multinational corporations in connection with these issues and is a frequent speaker at major industry conferences and events around the world. Alan is involved in several professional and legal national and international organizations. He was an active Member of EACCNY and is EACC Florida’s first President. Alan is based in Miami. \n\n\n\n\n\n\n\n\n\n\n\n\nTIME: \n10.00AM – 11.00AM EDT – 3.00PM – 4.00 PM BST – 4.00PM-5.00PM CET \nREGISTRATION FEE:\nEACCFL Members: Free\nEACCFL non-Members: Free \nREGISTER
URL:https://www.eacctx.com/2event/eutechrules/
LOCATION:Online
CATEGORIES:Partner Events
END:VEVENT
END:VCALENDAR