BEGIN:VCALENDAR
VERSION:2.0
PRODID:-//European American Chamber of Commerce Texas [EACCTX] | Your Partner for Transatlantic Business Resources - ECPv6.15.20//NONSGML v1.0//EN
CALSCALE:GREGORIAN
METHOD:PUBLISH
X-ORIGINAL-URL:https://www.eacctx.com
X-WR-CALDESC:Events for European American Chamber of Commerce Texas [EACCTX] | Your Partner for Transatlantic Business Resources
REFRESH-INTERVAL;VALUE=DURATION:PT1H
X-Robots-Tag:noindex
X-PUBLISHED-TTL:PT1H
BEGIN:VTIMEZONE
TZID:Europe/Amsterdam
BEGIN:DAYLIGHT
TZOFFSETFROM:+0100
TZOFFSETTO:+0200
TZNAME:CEST
DTSTART:20210328T010000
END:DAYLIGHT
BEGIN:STANDARD
TZOFFSETFROM:+0200
TZOFFSETTO:+0100
TZNAME:CET
DTSTART:20211031T010000
END:STANDARD
BEGIN:DAYLIGHT
TZOFFSETFROM:+0100
TZOFFSETTO:+0200
TZNAME:CEST
DTSTART:20220327T010000
END:DAYLIGHT
BEGIN:STANDARD
TZOFFSETFROM:+0200
TZOFFSETTO:+0100
TZNAME:CET
DTSTART:20221030T010000
END:STANDARD
BEGIN:DAYLIGHT
TZOFFSETFROM:+0100
TZOFFSETTO:+0200
TZNAME:CEST
DTSTART:20230326T010000
END:DAYLIGHT
BEGIN:STANDARD
TZOFFSETFROM:+0200
TZOFFSETTO:+0100
TZNAME:CET
DTSTART:20231029T010000
END:STANDARD
END:VTIMEZONE
BEGIN:VEVENT
DTSTART;TZID=Europe/Amsterdam:20220927T170000
DTEND;TZID=Europe/Amsterdam:20220927T193000
DTSTAMP:20260422T015703
CREATED:20220823T205454Z
LAST-MODIFIED:20220823T205454Z
UID:46256-1664298000-1664307000@www.eacctx.com
SUMMARY:EACC Netherlands: How the New Age of EU Competition Law impacts Transatlantic Business
DESCRIPTION:The European American Chamber of Commerce (EACC) Netherlands and Loyens & Loeff \nco-host a roundtable discussion with Transatlantic business leaders on the future of EU competition law. \nKeynote speakers\nOlivier Guersent\, Director General\, Directorate General for Competition\, European Union\nMarc Wiggers\, Attorney at law\, Partner\, Member Competition & Regulatory Practice Group\, Loyens & Loeff\nRoel Fluit\, Board Member EACC\, Attorney at law\, Partner\, Member Corporate Practice Group\, Loyens & Loeff \nThese experts will be speaking on the developments in competition law in the decade to come and\nthe challenges and opportunities for enforcers of European and U.S. companies. \nTopics to be discussed (among others): \n\nAn update on the enforcement priorities regarding: cartels & dawn raids\, distribution\, the digital sector\, sustainability & the energy transition; While we will also ask Mr Guersent to share any insight on recent cases.\nHow the EU’s DG Competition is dealing with hot topics on State Aid e.g. in the context of the current energy crises and of the COVID pandemic.\nAn overview of current issues in EU and US competition policy incl. progress being made via the Joint EU/US Technology & Competition Dialogue.\nA transatlantic perspective on the EU’s recent The Digital Services Act package (i.e. Digital Markets Act and Digital Services Act).
URL:https://www.eacctx.com/2event/eacc-netherlands-how-the-new-age-of-eu-competition-law-impacts-transatlantic-business/
LOCATION:Loyens & Loeff\, Parnassusweg 300\, Amsterdam
CATEGORIES:Partner Events
END:VEVENT
END:VCALENDAR