BEGIN:VCALENDAR
VERSION:2.0
PRODID:-//European American Chamber of Commerce Texas [EACCTX] | Your Partner for Transatlantic Business Resources - ECPv6.15.20//NONSGML v1.0//EN
CALSCALE:GREGORIAN
METHOD:PUBLISH
X-WR-CALNAME:European American Chamber of Commerce Texas [EACCTX] | Your Partner for Transatlantic Business Resources
X-ORIGINAL-URL:https://www.eacctx.com
X-WR-CALDESC:Events for European American Chamber of Commerce Texas [EACCTX] | Your Partner for Transatlantic Business Resources
REFRESH-INTERVAL;VALUE=DURATION:PT1H
X-Robots-Tag:noindex
X-PUBLISHED-TTL:PT1H
BEGIN:VTIMEZONE
TZID:America/Chicago
BEGIN:DAYLIGHT
TZOFFSETFROM:-0600
TZOFFSETTO:-0500
TZNAME:CDT
DTSTART:20210314T080000
END:DAYLIGHT
BEGIN:STANDARD
TZOFFSETFROM:-0500
TZOFFSETTO:-0600
TZNAME:CST
DTSTART:20211107T070000
END:STANDARD
BEGIN:DAYLIGHT
TZOFFSETFROM:-0600
TZOFFSETTO:-0500
TZNAME:CDT
DTSTART:20220313T080000
END:DAYLIGHT
BEGIN:STANDARD
TZOFFSETFROM:-0500
TZOFFSETTO:-0600
TZNAME:CST
DTSTART:20221106T070000
END:STANDARD
BEGIN:DAYLIGHT
TZOFFSETFROM:-0600
TZOFFSETTO:-0500
TZNAME:CDT
DTSTART:20230312T080000
END:DAYLIGHT
BEGIN:STANDARD
TZOFFSETFROM:-0500
TZOFFSETTO:-0600
TZNAME:CST
DTSTART:20231105T070000
END:STANDARD
END:VTIMEZONE
BEGIN:VEVENT
DTSTART;TZID=America/Chicago:20220720T130000
DTEND;TZID=America/Chicago:20220720T150000
DTSTAMP:20260422T064910
CREATED:20220713T221011Z
LAST-MODIFIED:20220713T221011Z
UID:46134-1658322000-1658329200@www.eacctx.com
SUMMARY:Webinar: Top tips to eliminating the hidden costs of your forklift operations
DESCRIPTION:EACC Texas Board Member Quebec Delegation in Houston invites you to attend a webinar on July 20th discussing the top tips to eliminating the hidden costs of forklift operations. \nForklift operations can be a huge cost center for businesses. Many material-handling teams are facing pressure to find new solutions to curb costs\, all while maintaining peak productivity. \nRelying on legacy technology simply doesn’t work anymore. \nREGISTER HERE to attend the webinar on Wednesday\, July 20th at 2pm EDT (1pm CDT) \n 
URL:https://www.eacctx.com/2event/webinar-top-tips-to-eliminating-the-hidden-costs-of-your-forklift-operations/
CATEGORIES:Partner Events
END:VEVENT
END:VCALENDAR