BEGIN:VCALENDAR
VERSION:2.0
PRODID:-//European American Chamber of Commerce Texas [EACCTX] | Your Partner for Transatlantic Business Resources - ECPv6.15.20//NONSGML v1.0//EN
CALSCALE:GREGORIAN
METHOD:PUBLISH
X-ORIGINAL-URL:https://www.eacctx.com
X-WR-CALDESC:Events for European American Chamber of Commerce Texas [EACCTX] | Your Partner for Transatlantic Business Resources
REFRESH-INTERVAL;VALUE=DURATION:PT1H
X-Robots-Tag:noindex
X-PUBLISHED-TTL:PT1H
BEGIN:VTIMEZONE
TZID:Europe/Paris
BEGIN:DAYLIGHT
TZOFFSETFROM:+0100
TZOFFSETTO:+0200
TZNAME:CEST
DTSTART:20210328T010000
END:DAYLIGHT
BEGIN:STANDARD
TZOFFSETFROM:+0200
TZOFFSETTO:+0100
TZNAME:CET
DTSTART:20211031T010000
END:STANDARD
BEGIN:DAYLIGHT
TZOFFSETFROM:+0100
TZOFFSETTO:+0200
TZNAME:CEST
DTSTART:20220327T010000
END:DAYLIGHT
BEGIN:STANDARD
TZOFFSETFROM:+0200
TZOFFSETTO:+0100
TZNAME:CET
DTSTART:20221030T010000
END:STANDARD
BEGIN:DAYLIGHT
TZOFFSETFROM:+0100
TZOFFSETTO:+0200
TZNAME:CEST
DTSTART:20230326T010000
END:DAYLIGHT
BEGIN:STANDARD
TZOFFSETFROM:+0200
TZOFFSETTO:+0100
TZNAME:CET
DTSTART:20231029T010000
END:STANDARD
END:VTIMEZONE
BEGIN:VEVENT
DTSTART;TZID=Europe/Paris:20220613T103000
DTEND;TZID=Europe/Paris:20220613T120000
DTSTAMP:20260422T081409
CREATED:20220518T164456Z
LAST-MODIFIED:20220518T164456Z
UID:46015-1655116200-1655121600@www.eacctx.com
SUMMARY:EACC Italy Information Session in Milan
DESCRIPTION:What is the EACC\, and how can it help my business?\nThe EACC in Italy\nIf your business would benefit from expanded connections to Italian\, European and American peers\, join us for a presentation on who the EACC is\, what we do\, and what it would take to launch an EACC chapter in Italy. Our delegation from the EACC Chapter in Cincinnati\, Ohio USA will share their experiences and the benefits the EACC has brought to them. And we will have plenty of time to connect and network. \nContact EACC Cincinnati Executive Director Todd Schwartz at eacc@europe-cincinnati.com to reserve your seat. \n  \nEACC Chapter Milan Event
URL:https://www.eacctx.com/2event/eacc-italy-information-session-in-milan/
LOCATION:GDP Studio Legale e Tributaro\, Via della Moscova 10\, Milano\, 20121\, Italy
CATEGORIES:Partner Events
END:VEVENT
END:VCALENDAR