BEGIN:VCALENDAR
VERSION:2.0
PRODID:-//European American Chamber of Commerce Texas [EACCTX] | Your Partner for Transatlantic Business Resources - ECPv6.15.20//NONSGML v1.0//EN
CALSCALE:GREGORIAN
METHOD:PUBLISH
X-ORIGINAL-URL:https://www.eacctx.com
X-WR-CALDESC:Events for European American Chamber of Commerce Texas [EACCTX] | Your Partner for Transatlantic Business Resources
REFRESH-INTERVAL;VALUE=DURATION:PT1H
X-Robots-Tag:noindex
X-PUBLISHED-TTL:PT1H
BEGIN:VTIMEZONE
TZID:America/Chicago
BEGIN:DAYLIGHT
TZOFFSETFROM:-0600
TZOFFSETTO:-0500
TZNAME:CDT
DTSTART:20210314T080000
END:DAYLIGHT
BEGIN:STANDARD
TZOFFSETFROM:-0500
TZOFFSETTO:-0600
TZNAME:CST
DTSTART:20211107T070000
END:STANDARD
BEGIN:DAYLIGHT
TZOFFSETFROM:-0600
TZOFFSETTO:-0500
TZNAME:CDT
DTSTART:20220313T080000
END:DAYLIGHT
BEGIN:STANDARD
TZOFFSETFROM:-0500
TZOFFSETTO:-0600
TZNAME:CST
DTSTART:20221106T070000
END:STANDARD
BEGIN:DAYLIGHT
TZOFFSETFROM:-0600
TZOFFSETTO:-0500
TZNAME:CDT
DTSTART:20230312T080000
END:DAYLIGHT
BEGIN:STANDARD
TZOFFSETFROM:-0500
TZOFFSETTO:-0600
TZNAME:CST
DTSTART:20231105T070000
END:STANDARD
END:VTIMEZONE
BEGIN:VEVENT
DTSTART;TZID=America/Chicago:20220224T120000
DTEND;TZID=America/Chicago:20220224T130000
DTSTAMP:20260422T143034
CREATED:20220211T193424Z
LAST-MODIFIED:20220211T193424Z
UID:45212-1645704000-1645707600@www.eacctx.com
SUMMARY:Quarterly EU Economic Update: Springtime in Europe - What the EU's Green Transition Means for US Businesses
DESCRIPTION:Though Omicron weighed on the European economy at the end of last year\, growth is already regaining traction. Supply chain bottlenecks and high energy prices are expected to recede over the course of the year\, though inflationary pressures are proving to be a bit more persistent than previously thought. Nonetheless\, the EU recovery should now be entering a prolonged and robust expansion. A continuously improving labor market\, a large stock of accumulated savings\, and especially the full deployment of the Recovery and Resilience Facility (RRF) should power strong domestic demand. \nThe investment outlook is as strong as it has ever been. Not only are businesses poised to invest more in critical equipment to boost productive capacity and resolve supply chain issues\, the RRF is set to launch a wave of spending on new green and digital technologies. \nMost member states have already received their first round of RRF pre-financing\, and over €46 billion in grants and nearly €20 billion in loans have been distributed so far. Now\, disbursements for countries that have already fulfilled specific targets and milestones in their Recovery and Resilience Plans are being rolled out. Spain received a €10 billion grant at the end of last year\, and many more member states should receive additional disbursements soon. \nPlease join our discussion of the EU Spring economic outlook and to learn about the implementation of the Recovery and Resilience Plans and how you can get involved. \n\n\nSPEAKERS: \n\n Balazs Parkanyi\, Counsellor for Economic and Financial Affairs\, EU DELEGATION TO THE UNITED STATES \nBen Carliner\, Senior Economist\, EU DELEGATION TO THE UNITED STATES \nYvonne Bendinger-Rothschild\, Executive Director\, EACCNY [Moderator]
URL:https://www.eacctx.com/2event/quarterly-eu-economic-update-springtime-in-europe-what-the-eus-green-transition-means-for-us-businesses/
CATEGORIES:Partner Events
END:VEVENT
BEGIN:VEVENT
DTSTART;TZID=America/Chicago:20220224T150000
DTEND;TZID=America/Chicago:20220224T160000
DTSTAMP:20260422T143034
CREATED:20220207T220417Z
LAST-MODIFIED:20220221T172615Z
UID:44943-1645714800-1645718400@www.eacctx.com
SUMMARY:Putting Your Languages to Work: Panel of HR Professionals
DESCRIPTION:In partnership with the Southern Methodist University Department of World Languages\, and the Southern Methodist University Hegi Career Center. \n“Putting your Languages to Work Part I: HR Professionals panel” is an event for students and faculty from universities across Texas. Join our panel of HR professionals explain why job seekers who have a background in a second language stand out and why the soft skills developed as a second language learner are needed in the workplace. \n  \n  \nMary Katherine Rademacher works as the Assistant Vice President in Graduate Recruitment & Program Management for CITI. MK is driven to serve\, learn\, and connect with others. She is an experienced fundraiser and relationship manager excelling at effectively engaging and evaluating current and potential partners. \n  \n \nJP Pruneau is the Director of Strategic Partnerships at Globalization Partners and has considerable knowledge in establishing meaningful global partnerships. Before joining Globalization Partners\, JP spent seven years in the HCM Industry focusing on individual production\, managing a sales team\, and handling strategic partnerships in the southern United States. JP has a well-founded understanding of the global landscape. He has his BBA in International Business from Texas Tech University and has lived in Canada\, Sweden\, and The Czech Republic. Globalization Partners is the world’s leading global employment platform that makes it fast and easy for employers to hire anyone\, anywhere\, without having to set up international branch offices or subsidiaries.    \n  \n \nLavender Li is the Director of Human Resources at Loocam. She has 10+ years of global HR management experience in China and the USA. Lavender’s HR qualification skills include global HR management experience\, company culture contribute\, organization development\, change management\, employee relations and diversity\, HR legal documents development\, HR capital analyst\, staff coaching and mentoring\, and full functions HR management. \n  \nThe panel will be on Thursday\, February 24th\, 2022 from 3:00-4:30pm. This event is co-sponsored by the European American Chamber of Commerce – Texas\, the Southern Methodist University Department of World Languages\, and the Southern Methodist University Hegi Career Center. Paola Buckley with SMU will moderate\, giving the panelists each 10 minutes to give a detailed background presentation\, followed by some questions\, and ending with a Q&A session. This event is part of SMU Dedman College Global Literacy and Languages for Specific Purposes Research Cluster initiative that unites faculty from a range of academic and professional disciplines. This research cluster unites faculty from a range of academic and professional disciplines to discuss and define a set of shared goals and best practices to provide students with real-world\, global perspectives and transferable skills aligned with skills employers seek in the contemporary workplace. Topics of discussion include curricular innovation\, academic and corporate partnerships for internships and fieldwork abroad and at home\, and the assessment of and integration with SMU’s Common Curriculum requirements with a focus on the integration of world languages and cultures for professional purposes across the curriculum. \n  \nThis event is great to attend if you are a multilingual student or faculty member at a university here in Texas. It will give a tangible perspective to the importance of studying different languages and cultures\, and how that will set you apart in a room of applicants. Register now for the opportunity to hear from our talented and insightful HR specialist panel.   \n  \nREGISTER FOR THE VIRTUAL PANEL HERE \n  \nEvent Partners: \n 
URL:https://www.eacctx.com/2event/putting-your-languages-to-work-hr-professionals-panel/
CATEGORIES:events
ORGANIZER;CN="EACC Texas":MAILTO:info@eacctx.com
END:VEVENT
END:VCALENDAR