BEGIN:VCALENDAR
VERSION:2.0
PRODID:-//European American Chamber of Commerce Texas [EACCTX] | Your Partner for Transatlantic Business Resources - ECPv6.15.20//NONSGML v1.0//EN
CALSCALE:GREGORIAN
METHOD:PUBLISH
X-ORIGINAL-URL:https://www.eacctx.com
X-WR-CALDESC:Events for European American Chamber of Commerce Texas [EACCTX] | Your Partner for Transatlantic Business Resources
REFRESH-INTERVAL;VALUE=DURATION:PT1H
X-Robots-Tag:noindex
X-PUBLISHED-TTL:PT1H
BEGIN:VTIMEZONE
TZID:America/New_York
BEGIN:DAYLIGHT
TZOFFSETFROM:-0500
TZOFFSETTO:-0400
TZNAME:EDT
DTSTART:20210314T070000
END:DAYLIGHT
BEGIN:STANDARD
TZOFFSETFROM:-0400
TZOFFSETTO:-0500
TZNAME:EST
DTSTART:20211107T060000
END:STANDARD
BEGIN:DAYLIGHT
TZOFFSETFROM:-0500
TZOFFSETTO:-0400
TZNAME:EDT
DTSTART:20220313T070000
END:DAYLIGHT
BEGIN:STANDARD
TZOFFSETFROM:-0400
TZOFFSETTO:-0500
TZNAME:EST
DTSTART:20221106T060000
END:STANDARD
BEGIN:DAYLIGHT
TZOFFSETFROM:-0500
TZOFFSETTO:-0400
TZNAME:EDT
DTSTART:20230312T070000
END:DAYLIGHT
BEGIN:STANDARD
TZOFFSETFROM:-0400
TZOFFSETTO:-0500
TZNAME:EST
DTSTART:20231105T060000
END:STANDARD
END:VTIMEZONE
BEGIN:VEVENT
DTSTART;TZID=America/New_York:20220208T100000
DTEND;TZID=America/New_York:20220208T110000
DTSTAMP:20260422T143035
CREATED:20220121T153015Z
LAST-MODIFIED:20220126T172811Z
UID:44768-1644314400-1644318000@www.eacctx.com
SUMMARY:Supply Chain Disruption: Look Ahead
DESCRIPTION:Join us for a discussion on the current Supply Chain disruptions & how to prepare now for the next major crisis. \nOur experts will discuss what needs to change in global supply chain planning to prepare effectively for the next global crisis; whatever it may be – financial\, health or climate related. We will take a deep dive into the dynamics of supply in the pandemic aftermath and offer a look ahead as well as steps companies can take to update their infrastructure to future-proof their systems & operations. \nThe State of Play:\n• Overview of global trade developments and global trade volumes as compared to pre-pandemic levels with shipping and supply chains still being significantly disrupted (and no change in sight in the medium term).\n\nLogistic Aspects:\n• Lead indicators and where are we in the commodities cycle?\n• Outlook for shipping: Are pressures easing? What about freight rates? Effects on inventory restocking in the US?\n• The need for advance planning & agility in supply chain management\n•How market participants can develop the economic dynamics on the ground\n\nThe Trade Angle:\n• Trade forecasts & long-term trade forecasts for key countries.\n• Regulatory changes in EU and US and how they affect supply chain\n• Trade policy challenges: US-China trade tensions\, tariffs\, Brexit\,\n• Possible affect trade deals may have on restructuring existing supply chain\n\nOpportunities & Innovation:\n• Digitalization & other Technical solutions\n• Process adjustments & how to be a good customer\n• Better forecasting & Finding other efficiencies\n\nA look ahead:\n• Risk mitigation strategies for businesses: Near-shoring/reshoring\, market diversification\, vertical integration\, and digitization\n• Long term effect of climate change on operations\, logistics and resource shortages\n• Rethinking Supplier development \nSPEAKERS:\n• Shanella Rajanayagam\, Trade Economist\, HSBC\n• Rupert Schlegelmilch\, Director Directorate General for Trade\, EUROPEAN COMMISSION\n• Gaurav Chhabra\, Managing Partner\, ALIXPARTNERS\n• Yvonne Bendinger-Rothschild\, Executive Director\, EACCNY \nTIME:\n10:00 AM – 11:00 AM EST / 16:00 h – 17:00 h CET \nREGISTRATION FEE:\nEACCNY Members: Free\nEACCNY non-Members: Free \nREGISTER HERE
URL:https://www.eacctx.com/2event/supply-chain-disruption-look-ahead/
LOCATION:Online
CATEGORIES:Partner Events
END:VEVENT
END:VCALENDAR