BEGIN:VCALENDAR
VERSION:2.0
PRODID:-//European American Chamber of Commerce Texas [EACCTX] | Your Partner for Transatlantic Business Resources - ECPv6.15.20//NONSGML v1.0//EN
CALSCALE:GREGORIAN
METHOD:PUBLISH
X-WR-CALNAME:European American Chamber of Commerce Texas [EACCTX] | Your Partner for Transatlantic Business Resources
X-ORIGINAL-URL:https://www.eacctx.com
X-WR-CALDESC:Events for European American Chamber of Commerce Texas [EACCTX] | Your Partner for Transatlantic Business Resources
REFRESH-INTERVAL;VALUE=DURATION:PT1H
X-Robots-Tag:noindex
X-PUBLISHED-TTL:PT1H
BEGIN:VTIMEZONE
TZID:America/New_York
BEGIN:DAYLIGHT
TZOFFSETFROM:-0500
TZOFFSETTO:-0400
TZNAME:EDT
DTSTART:20210314T070000
END:DAYLIGHT
BEGIN:STANDARD
TZOFFSETFROM:-0400
TZOFFSETTO:-0500
TZNAME:EST
DTSTART:20211107T060000
END:STANDARD
BEGIN:DAYLIGHT
TZOFFSETFROM:-0500
TZOFFSETTO:-0400
TZNAME:EDT
DTSTART:20220313T070000
END:DAYLIGHT
BEGIN:STANDARD
TZOFFSETFROM:-0400
TZOFFSETTO:-0500
TZNAME:EST
DTSTART:20221106T060000
END:STANDARD
BEGIN:DAYLIGHT
TZOFFSETFROM:-0500
TZOFFSETTO:-0400
TZNAME:EDT
DTSTART:20230312T070000
END:DAYLIGHT
BEGIN:STANDARD
TZOFFSETFROM:-0400
TZOFFSETTO:-0500
TZNAME:EST
DTSTART:20231105T060000
END:STANDARD
END:VTIMEZONE
BEGIN:VEVENT
DTSTART;TZID=America/New_York:20220125T110000
DTEND;TZID=America/New_York:20220125T120000
DTSTAMP:20260422T155937
CREATED:20220121T171252Z
LAST-MODIFIED:20220124T182810Z
UID:44831-1643108400-1643112000@www.eacctx.com
SUMMARY:WEBINAR – ESG Advertising: Latest Trends\, Dos and Don’ts and What’s Coming Up in 2022
DESCRIPTION:In the past ten years\, ESG (Environmental\, Social\, Governance) has become a key focus for the corporate world. Environmental protection\, social justice\, and ethical management are increasingly meaningful to consumers\, particularly millennials and the ZGeneration. This has led to a growing global trend towards advertising based on ESG issues\, and as a result to regulators taking a closer interest in ESG-related claims\, and to brand damage from allegations of “green washing”\, gender or other stereotyping\, cultural appropriation\, …\n\n\n\n\n\n\n\nJoin us for a discussion on the trends within ESG advertising in Europe and the United States. We will explain what ESG Advertising is and what it is not\, will compare and discuss similarities\, differences\, and challenges on both sides of the Atlantic and will look into the looking-glass in terms of upcoming legislation and trends. \nTopics to be addressed \n\nWhat Is ESG Advertising?\nIs There A Regulatory Framework At EU Level? What About The UK?\nWhat Is The Legal Landscape In The United States?\nWhat Are The Do’s And Don’ts That You Need To Keep In Mind?\nWhat Are The Latest Trends? In B2B And B2C?\nLooking Ahead To 2022\, What Do We Foresee From A Legal Perspective In Respect To ESG Advertising?\n\n  \nSpeakers \n\nEdward B. Chansky – Shareholder\, Greenberg Traurig (Las Vegas)\nBrinsley Dresden – Partner\, Head Of Advertising & Marketing Law\, Lewis Silkin LLP (London)\nAlan Sutin – Principal Shareholder\, Greenberg Traurig (Miami) [Moderator]\n\n\n  \n\nSpeaker Biographies \nEd Chansky focuses his practice in the areas of intellectual property (particularly development\, selection\, protection and licensing of trademarks worldwide) and advertising\, sales promotion\, and trade-regulation law\, including charitable promotions\, cause-related marketing\, sweepstakes\, contests\, gift cards\, eCommerce\, substantiation of advertising claims\, social gaming\, social media\, and all aspects of unfair or deceptive trade practices in a wide variety of industries. Ed is also a frequent speaker at seminars and conferences on advertising and promotion law topics. In addition to being a Harvard and Yale-educated lawyer\, for many years\, Ed worked as a part-time musician (trombone) playing everything from grand opera to rhythm and blues. Ed is based in Las Vegas. \n  \nBrinsley Dresden leads the firm’s Advertising and Marketing Sector Focus Group\, with over two decades of experience advising brands and agencies on a wide range of issues. These include defending complex investigations by the Advertising Standards Authority\, as well as filing competitor complaints; obtaining Clearcast approval for TV commercials; and advising on advertising in the automotive\, alcohol\, cosmetics\, food\, pharmaceutical and health sectors. He also drafts and negotiates client/ agency agreements\, influencer agreements and celebrity talent contracts. He advises on compliance for lotteries and competitions\, as well as on resolving advertising related disputes\, such as third party claims of IP infringement and breach of contract claims.  Brinsley is named in the Campaign A List\, the Legal 500 Hall of Fame\, and in Band 1 in the Chambers Directory 2022 and is Secretary and Treasurer of the Global Advertising Lawyers’ Alliance. Brinsley is based in London. \n  \n \nAlan Sutin is a Principal Shareholder of Greenberg Traurig and Senior Chair of the firm’s Global Intellectual Property & Technology Practice. In addition to being an experienced business lawyer with a principal focus on commercial transactions with intellectual property and technology issues and privacy and cybersecurity matters\, Alan also represents a wide variety of companies in connection with IT and business process outsourcing arrangements\, strategic alliance agreements\, commercial joint ventures and licensing matters. He has particular experience in Internet and electronic commerce issues and has been involved in many of the major policy issues surrounding the commercial development of the Internet. Alan has advised foreign governments and multinational corporations in connection with these issues and is a frequent speaker at major industry conferences and events around the world. Alan is involved in several professional and legal national and international organizations. He was an active Member of EACCNY and is EACC Florida’s first President. Alan is based in Miami. \nProgram brought to you by EACC Florida \nREGISTRATION \n\nEACC Members: Free\nEACC Non-Members: Free\n\nNote: when registering for EACC events you give consent that your name\, title and company name will be included in the attendee list for said seminar. EACC event attendee lists are made available to other seminar attendees. \n\n\n\n\n\n\n\n\n\n\nREGISTER HERE
URL:https://www.eacctx.com/2event/webinar-esg-advertising-latest-trends-dos-and-donts-and-whats-coming-up-in-2022-2/
LOCATION:Online
CATEGORIES:Partner Events
END:VEVENT
END:VCALENDAR