BEGIN:VCALENDAR
VERSION:2.0
PRODID:-//European American Chamber of Commerce Texas [EACCTX] | Your Partner for Transatlantic Business Resources - ECPv6.15.20//NONSGML v1.0//EN
CALSCALE:GREGORIAN
METHOD:PUBLISH
X-ORIGINAL-URL:https://www.eacctx.com
X-WR-CALDESC:Events for European American Chamber of Commerce Texas [EACCTX] | Your Partner for Transatlantic Business Resources
REFRESH-INTERVAL;VALUE=DURATION:PT1H
X-Robots-Tag:noindex
X-PUBLISHED-TTL:PT1H
BEGIN:VTIMEZONE
TZID:America/Chicago
BEGIN:DAYLIGHT
TZOFFSETFROM:-0600
TZOFFSETTO:-0500
TZNAME:CDT
DTSTART:20210314T080000
END:DAYLIGHT
BEGIN:STANDARD
TZOFFSETFROM:-0500
TZOFFSETTO:-0600
TZNAME:CST
DTSTART:20211107T070000
END:STANDARD
BEGIN:DAYLIGHT
TZOFFSETFROM:-0600
TZOFFSETTO:-0500
TZNAME:CDT
DTSTART:20220313T080000
END:DAYLIGHT
BEGIN:STANDARD
TZOFFSETFROM:-0500
TZOFFSETTO:-0600
TZNAME:CST
DTSTART:20221106T070000
END:STANDARD
BEGIN:DAYLIGHT
TZOFFSETFROM:-0600
TZOFFSETTO:-0500
TZNAME:CDT
DTSTART:20230312T080000
END:DAYLIGHT
BEGIN:STANDARD
TZOFFSETFROM:-0500
TZOFFSETTO:-0600
TZNAME:CST
DTSTART:20231105T070000
END:STANDARD
END:VTIMEZONE
BEGIN:VEVENT
DTSTART;TZID=America/Chicago:20220112T090000
DTEND;TZID=America/Chicago:20220112T100000
DTSTAMP:20260422T155944
CREATED:20211213T000949Z
LAST-MODIFIED:20211213T002142Z
UID:44562-1641978000-1641981600@www.eacctx.com
SUMMARY:EU & US Tax Update: What's New & What You Need to Know Now
DESCRIPTION:Join us for an update on major tax related developments with experts from the OECD\, the EU Commission and a U.S. Government Tax Insiders. Our panel will outline changes in tax legislation on both the US and EU side\, their significance for corporate tax planning and how to best prepare to be tax effective and compliant. \n  \nUS SIDE OF THE AGENDA \n\nBasic design features of the US Budget Reconciliation Tax Legislation\nTreatment of U.S. outbound businesses (GILTI rewrite\, foreign tax credit rule changes).\nEffective dates and transition.\nYear-end wrap up package (expiring tax and trade provisions)\n\n  \nEU SIDE OF THE AGENDA \n\nOECD Substance & Process\, Treasury’s objectives in further discussion of the Inclusive Framework\, incl. Congressional position.\nS. treaty legislative process and impact & Interplay with DSTs.\nEU Tax Reform Packages\nGlobal minimum Tax\, esp. the transposition of Pillar 2 plus the work on Pillar 1\, ramifications for financing the EU and the middle term intention to rebuild our CIT framework (BEFIT)\nEU Stepping up against tax evasion and aggressive tax planning: legislation on shell companies\, defensive measures against blacklisted jurisdictions\, new transparency requirements.\n\n  \nSPEAKERS: \n\nKyle Dowley\, Managing Director\, CLA CONNECT (moderator)\nMark Prater\, Managing Director\, Tax Policy Svcs\, PWC US\nBenjamin Angel\, Director for Direct Taxation\, Tax Coordination\, Economic Analysis & Evaluation & Acting Director for Indirect Taxation & Tax Administration\, DG TAXUD\, EUROPEAN COMMISSION\nOther panelist to be announced\n\nREGISTRATION FEE\nEACCNY Members: Free\nEACCNY non-Members: Free \nREGISTER HERE
URL:https://www.eacctx.com/2event/eu-us-tax-update-whats-new-what-you-need-to-know-now/
LOCATION:Online
CATEGORIES:Partner Events
END:VEVENT
BEGIN:VEVENT
DTSTART;TZID=America/Chicago:20220112T100000
DTEND;TZID=America/Chicago:20220112T110000
DTSTAMP:20260422T155944
CREATED:20211213T001611Z
LAST-MODIFIED:20211213T001622Z
UID:44567-1641981600-1641985200@www.eacctx.com
SUMMARY:WEBINAR – ESG Advertising: Latest Trends\, Dos and Don’ts and What’s Coming Up in 2022
DESCRIPTION:In the past ten years\, ESG (Environmental\, Social\, Governance) has become a key focus for the corporate world. Environmental protection\, social justice\, and ethical management are increasingly meaningful to consumers\, particularly millennials and the ZGeneration. This has led to a growing global trend towards advertising based on ESG issues\, and as a result to regulators taking a closer interest in ESG-related claims\, and to brand damage from allegations of “green washing”\, gender or other stereotyping\, cultural appropriation\, … \nJoin us for a discussion on the trends within ESG advertising in Europe and the United States. We will explain what ESG Advertising is and what it is not\, will compare and discuss similarities\, differences\, and challenges on both sides of the Atlantic and will look into the looking-glass in terms of upcoming legislation and trends. \n  \nTopics to be addressed \n\nWhat is ESG Advertising?\nIs there a regulatory framework at EU level? What about the UK?\nWhat is the legal landscape in the United States?\nWhat are the do’s and don’ts that you need to keep in mind?\nWhat are the latest trends? In B2B and B2C?\nLooking ahead to 2022\, what do we foresee from a legal perspective in respect to ESG advertising?\n\n  \nSpeakers \n\nEdward B. Chansky – Shareholder\, Greenberg Traurig (Las Vegas)\nBrinsley Dresden – Partner\, Head of Advertising & Marketing Law\, Lewis Silkin LLP (London)\nAlan Sutin – Principal Shareholder\, Greenberg Traurig (Miami) [Moderator]\n\n  \nTo know more about the speakers click here \nYou can register here \n  \nREGISTRATION \n\nEACC Members: free\nEACC non-members: free
URL:https://www.eacctx.com/2event/webinar-esg-advertising-latest-trends-dos-and-donts-and-whats-coming-up-in-2022/
LOCATION:Online
CATEGORIES:Partner Events
END:VEVENT
END:VCALENDAR