BEGIN:VCALENDAR
VERSION:2.0
PRODID:-//European American Chamber of Commerce Texas [EACCTX] | Your Partner for Transatlantic Business Resources - ECPv6.15.20//NONSGML v1.0//EN
CALSCALE:GREGORIAN
METHOD:PUBLISH
X-WR-CALNAME:European American Chamber of Commerce Texas [EACCTX] | Your Partner for Transatlantic Business Resources
X-ORIGINAL-URL:https://www.eacctx.com
X-WR-CALDESC:Events for European American Chamber of Commerce Texas [EACCTX] | Your Partner for Transatlantic Business Resources
REFRESH-INTERVAL;VALUE=DURATION:PT1H
X-Robots-Tag:noindex
X-PUBLISHED-TTL:PT1H
BEGIN:VTIMEZONE
TZID:America/Chicago
BEGIN:DAYLIGHT
TZOFFSETFROM:-0600
TZOFFSETTO:-0500
TZNAME:CDT
DTSTART:20200308T080000
END:DAYLIGHT
BEGIN:STANDARD
TZOFFSETFROM:-0500
TZOFFSETTO:-0600
TZNAME:CST
DTSTART:20201101T070000
END:STANDARD
BEGIN:DAYLIGHT
TZOFFSETFROM:-0600
TZOFFSETTO:-0500
TZNAME:CDT
DTSTART:20210314T080000
END:DAYLIGHT
BEGIN:STANDARD
TZOFFSETFROM:-0500
TZOFFSETTO:-0600
TZNAME:CST
DTSTART:20211107T070000
END:STANDARD
BEGIN:DAYLIGHT
TZOFFSETFROM:-0600
TZOFFSETTO:-0500
TZNAME:CDT
DTSTART:20220313T080000
END:DAYLIGHT
BEGIN:STANDARD
TZOFFSETFROM:-0500
TZOFFSETTO:-0600
TZNAME:CST
DTSTART:20221106T070000
END:STANDARD
END:VTIMEZONE
BEGIN:VEVENT
DTSTART;TZID=America/Chicago:20211117T120000
DTEND;TZID=America/Chicago:20211117T130000
DTSTAMP:20260422T190738
CREATED:20211025T145122Z
LAST-MODIFIED:20211025T145122Z
UID:43996-1637150400-1637154000@www.eacctx.com
SUMMARY:Quarterly EU Economic Update: EU Autumn 2021 Economic Forecast
DESCRIPTION:The European American Chamber of Commerce – New York is hosting a webinar to discuss the European economic forecast for upcoming months.\nGet the latest on the European economy with an in-depth look at the European Commission’s newly released autumn 2021 Economic Forecast. This comprehensive forecast takes into account all the recent economic data and public policy developments through mid-October and weighs the prospects for European and global growth against a range of potential risks. \n  \nSPEAKERS:\n• Balazs Parkanyi\, Counsellor for Economic and Financial Affairs\, EU DELEGATION TO THE UNITED STATES\n● Ben Carliner\, Senior Economist\, EU DELEGATION TO THE UNITED STATES\n● Yvonne Bendinger-Rothschild\, Executive Director\, EACCNY [Moderator] \n  \nThere is a lot of momentum behind the recovery and we should see some solid growth numbers for the EU economies over the remainder of the year and into 2022. High vaccination rates and cautious public health policies are now paying growth dividends across the EU. With that said\, the pace of the recovery is moderating as supply shortages and logistical bottlenecks weigh on output. Inventories are very low and many manufacturers simply can’t get the supplies they need. On the labor market side\, it has been challenging to fill open positions due to skills mismatches. \nIn other words\, short-term demand policy seems to have worked well both in Europe and the US. Savings rates are high and investment is growing. But Covid-related supply constraints are holding back growth and look set to last longer than expected. Policy makers on both sides of the Atlantic now need to focus on the medium- to long-term. In this vein\, the EU’s Recovery and Resilience Facility [RRF] will finance a lot of new investment in green and digital technologies that will boost growth and productivity further while ‘future-proofing’ the economic structure by linking RRF funds to structural reform. RRF roll-out has already started and policy makers as well as the private sector are optimistic\, especially about the speed of the green and digital transitions. \nThe EU Commission still expects supply shortages to be temporary\, but in the meantime\, they are feeding into higher headline inflation\, and there is uncertainty over how to effectively address these bottlenecks in the short term. Rising energy prices are also causing a headache for policy makers in Europe\, where many countries depend on imported gas. This raises important strategic questions\, including whether green investments will smooth out or aggravate tensions in the energy market. \n  \nTIME:\nNoon – 1:00pm CST / 1:00pm-2:00pm EST \n  \nRegister Here\n  \nThis event is hosted by:
URL:https://www.eacctx.com/2event/quarterly-eu-economic-update-eu-autumn-2021-economic-forecast/
LOCATION:Online
CATEGORIES:Partner Events
END:VEVENT
END:VCALENDAR