BEGIN:VCALENDAR
VERSION:2.0
PRODID:-//European American Chamber of Commerce Texas [EACCTX] | Your Partner for Transatlantic Business Resources - ECPv6.15.20//NONSGML v1.0//EN
CALSCALE:GREGORIAN
METHOD:PUBLISH
X-WR-CALNAME:European American Chamber of Commerce Texas [EACCTX] | Your Partner for Transatlantic Business Resources
X-ORIGINAL-URL:https://www.eacctx.com
X-WR-CALDESC:Events for European American Chamber of Commerce Texas [EACCTX] | Your Partner for Transatlantic Business Resources
REFRESH-INTERVAL;VALUE=DURATION:PT1H
X-Robots-Tag:noindex
X-PUBLISHED-TTL:PT1H
BEGIN:VTIMEZONE
TZID:America/New_York
BEGIN:DAYLIGHT
TZOFFSETFROM:-0500
TZOFFSETTO:-0400
TZNAME:EDT
DTSTART:20200308T070000
END:DAYLIGHT
BEGIN:STANDARD
TZOFFSETFROM:-0400
TZOFFSETTO:-0500
TZNAME:EST
DTSTART:20201101T060000
END:STANDARD
BEGIN:DAYLIGHT
TZOFFSETFROM:-0500
TZOFFSETTO:-0400
TZNAME:EDT
DTSTART:20210314T070000
END:DAYLIGHT
BEGIN:STANDARD
TZOFFSETFROM:-0400
TZOFFSETTO:-0500
TZNAME:EST
DTSTART:20211107T060000
END:STANDARD
BEGIN:DAYLIGHT
TZOFFSETFROM:-0500
TZOFFSETTO:-0400
TZNAME:EDT
DTSTART:20220313T070000
END:DAYLIGHT
BEGIN:STANDARD
TZOFFSETFROM:-0400
TZOFFSETTO:-0500
TZNAME:EST
DTSTART:20221106T060000
END:STANDARD
END:VTIMEZONE
BEGIN:VEVENT
DTSTART;TZID=America/New_York:20210629T100000
DTEND;TZID=America/New_York:20210629T110000
DTSTAMP:20260423T013259
CREATED:20210625T220649Z
LAST-MODIFIED:20210625T220649Z
UID:43594-1624960800-1624964400@www.eacctx.com
SUMMARY:Post-COVID Recovery Programs: The US and the EU Strategies to jump start their Economies and make them fit for the future
DESCRIPTION:Unprecedented investment plans driven by high political profiles on both sides of the Atlantic. Join us for a high-level discussion about the US and EU’s strategies for global competitiveness and opportunities for investors.Europe is embarking on a transition towards climate neutrality and digital leadership. The EU COVID Recovery Fund\, will invest €750 billion in rebuilding the European economy. The U.S. Jobs Plan foresees 1 trillion US$  to create millions of good jobs\, rebuild the US infrastructure\, and position the United States to be more competitive. According to the administration\, the American Jobs Plan will invest in America in a way not seen since the US built the interstate highways and won the Space Race.The EU strategy focuses on:●  Green transition\, supported by the European Green Deal●  Digital transition\, supported by the EU’s digital strategy●  Competitiveness on the global stage\, where Europe will leverage the influence of its single market to set global standardsSimilar to that the US approach to the economic recovery will emphasize:●  Investments in highways\, rebuild bridges\, upgrade ports\, airports and transit systems●  The Environment by clean drinking water\, a renewed electric grid\, and high-speed broadband●  Upgrade manufacturing capabilities & skills\, to secure US supply chains●  Deliver clean drinking water\, a renewed electric grid\, and high-speed broadbandWhile the US’s post WWII ‘New Deal’ was similarly transformative\, the forward-looking and comprehensive pan-European approach the European Union is taking showcases a new level of commitment to the European Project – one we have not seen before\, neither in scale nor strategic dimension.Both the EU and the US recovery plans will present a multitude of opportunities for US and European investors to participate in the   execution of these projects\, engage with partners on the ground on either side of the Atlantic and by offering or accessing funding for these initiatives. Join us to hear what YOU need to know and how to get involved. \nSPEAKERS:\n● Kerstin Jorna\, Director-General of the Directorate-General for Internal Market\, Industry\, Entrepreneurship & SMEs\, EUROPEAN COMMISSION\n● Thomas Barrett\, Chairman\, OECD INFRASTRUCTURE GOVERNANCE FORUM\n● Angel Ubide\, Managing Director\, CITADEL LLC\n● Simon Wells\, Chief European Economist\, HSBC BANK\n● Rolf Alter\, Economist\, Fellow\, HERTIE SCHOOL OF GOVERNANCE [Moderator] \nTIME:\n10:00am EDT / 16:00 CET \nREGISTRATION FEE:\nEACCNY Members: Free\nEACCNY non-Members: Free \nREGISTER HERE\nLocation:\nOnline
URL:https://www.eacctx.com/2event/post-covid-recovery-programs-the-us-and-the-eu-strategies-to-jump-start-their-economies-and-make-them-fit-for-the-future/
LOCATION:Online
CATEGORIES:Partner Events
END:VEVENT
END:VCALENDAR