BEGIN:VCALENDAR
VERSION:2.0
PRODID:-//European American Chamber of Commerce Texas [EACCTX] | Your Partner for Transatlantic Business Resources - ECPv6.15.20//NONSGML v1.0//EN
CALSCALE:GREGORIAN
METHOD:PUBLISH
X-ORIGINAL-URL:https://www.eacctx.com
X-WR-CALDESC:Events for European American Chamber of Commerce Texas [EACCTX] | Your Partner for Transatlantic Business Resources
REFRESH-INTERVAL;VALUE=DURATION:PT1H
X-Robots-Tag:noindex
X-PUBLISHED-TTL:PT1H
BEGIN:VTIMEZONE
TZID:America/New_York
BEGIN:DAYLIGHT
TZOFFSETFROM:-0500
TZOFFSETTO:-0400
TZNAME:EDT
DTSTART:20200308T070000
END:DAYLIGHT
BEGIN:STANDARD
TZOFFSETFROM:-0400
TZOFFSETTO:-0500
TZNAME:EST
DTSTART:20201101T060000
END:STANDARD
BEGIN:DAYLIGHT
TZOFFSETFROM:-0500
TZOFFSETTO:-0400
TZNAME:EDT
DTSTART:20210314T070000
END:DAYLIGHT
BEGIN:STANDARD
TZOFFSETFROM:-0400
TZOFFSETTO:-0500
TZNAME:EST
DTSTART:20211107T060000
END:STANDARD
BEGIN:DAYLIGHT
TZOFFSETFROM:-0500
TZOFFSETTO:-0400
TZNAME:EDT
DTSTART:20220313T070000
END:DAYLIGHT
BEGIN:STANDARD
TZOFFSETFROM:-0400
TZOFFSETTO:-0500
TZNAME:EST
DTSTART:20221106T060000
END:STANDARD
END:VTIMEZONE
BEGIN:VTIMEZONE
TZID:America/Chicago
BEGIN:DAYLIGHT
TZOFFSETFROM:-0600
TZOFFSETTO:-0500
TZNAME:CDT
DTSTART:20200308T080000
END:DAYLIGHT
BEGIN:STANDARD
TZOFFSETFROM:-0500
TZOFFSETTO:-0600
TZNAME:CST
DTSTART:20201101T070000
END:STANDARD
BEGIN:DAYLIGHT
TZOFFSETFROM:-0600
TZOFFSETTO:-0500
TZNAME:CDT
DTSTART:20210314T080000
END:DAYLIGHT
BEGIN:STANDARD
TZOFFSETFROM:-0500
TZOFFSETTO:-0600
TZNAME:CST
DTSTART:20211107T070000
END:STANDARD
BEGIN:DAYLIGHT
TZOFFSETFROM:-0600
TZOFFSETTO:-0500
TZNAME:CDT
DTSTART:20220313T080000
END:DAYLIGHT
BEGIN:STANDARD
TZOFFSETFROM:-0500
TZOFFSETTO:-0600
TZNAME:CST
DTSTART:20221106T070000
END:STANDARD
END:VTIMEZONE
BEGIN:VEVENT
DTSTART;TZID=America/New_York:20210624T080000
DTEND;TZID=America/New_York:20210624T090000
DTSTAMP:20260423T031225
CREATED:20210525T174629Z
LAST-MODIFIED:20210618T175246Z
UID:43429-1624521600-1624525200@www.eacctx.com
SUMMARY:Is the End in Sight? Yes\, it is!  17 Years of the Airbus-Boeing Dispute
DESCRIPTION:In October 2004 the U.S. hauled Airbus in front of the World Trade Organization\, calling European loans to Airbus illegal subsidies. Since then\, there have been counter-complaints and negotiations and appeals. Meanwhile\, a global pandemic has walloped the aerospace industry\, and China is making a serious run at getting into the civilian airliner market. \nIn March 2021 the new U.S. Administration reached agreements with the UK and the EU to “pause” tariffs in the dispute for an initial period of four months to give negotiators time to see if a settlement can be reached. Three months into the pause\, what progress has been made (if any)? Is there a settlement to be had\, and if so\, what might it look like? And if not\, what would a return to tariffs mean for the aerospace industry specifically and for transatlantic (and global) trade in general? \nOur expert panelists – from both sides of the Atlantic — will review the state of play offer perspectives on the way forward.  Our attorneys will review the history of the dispute and summarize the specific complaints as well as update us on the status of the talks\, while our manufacturers will review how the issue has impacted their firms in the past as well as consider how a resolution (or non-resolution) might affect future operational and investment decisions. \nFree event for EACC members and non-members. \nREGISTER HERE \nFeatured Panelists: \n\nJan de Beer\nOffice Member-in-Charge | Lexington\, KY\nFrost Brown Todd LLC \n\nPhilippe Garnier\nCEO & General Manager\nSafran Landing Systems \n\nAndrew Tetley\nPartner\nReed Smith LLP
URL:https://www.eacctx.com/2event/is-the-end-in-sight-17-years-of-the-airbus-boeing-dispute-webinar/
LOCATION:Online
CATEGORIES:Partner Events
END:VEVENT
BEGIN:VEVENT
DTSTART;TZID=America/Chicago:20210624T113000
DTEND;TZID=America/Chicago:20210624T123000
DTSTAMP:20260423T031225
CREATED:20210608T000828Z
LAST-MODIFIED:20210615T174159Z
UID:43491-1624534200-1624537800@www.eacctx.com
SUMMARY:EuroTech Talks: 5G for Good!... The Benefits for Business and Society
DESCRIPTION:EuroTech Talks is a forum to hear and learn about the latest updates in innovation across industries.  Our expert panel from Dell Technologies\, Nokia and T-Mobile update us the role of “5G for Good!…and its benefits for business & society.  Join us on June 24th  – virtually until we meet in person in September! \n5G played a key role in securing Business continuity and helping to bridge the digital divide over the past 18 months… \n\nWhat are the new developments in 5G deployments and building solutions?\nHow will 5G be a catalyst to digitalization and Industry 4.0?\nWhat is the value for tomorrow’s Business?\nWhat can we expect from 5G to build a better world\, help to bridge the digital divide\, contribute to climate change solutions?\n\nRegister Here\n \nSPEAKERS \n\nSandro Tavares\, Director\, Telecom Solutions Marketing\,\n\nSandro joined Dell Technologies in January 2021\, leading the team responsible for the marketing activities for the telecommunications market. He brings more than 20 years of international experience in the telecom industry\, with most of these years spent at Nokia\, where he has served in sales and marketing positions\, working in Brazil\, Argentina\, Finland\, and the U.S. His last role at Nokia was Head of Mobile Networks Marketing\, a position in which he led a global team focused on developing the 5G market and promoting Nokia’s solutions in this domain. \nSandro is a sought-after industry speaker presenting such industry developments as NFV\, Cloud\, 5G\, and Open RAN. He has also published opinion articles in several specialized media outlets. His technical interest topics include 5G\, Open RAN\, Cloud RAN\, NFV\, Data Center Infrastructure\, and VoLTE/VoWiFi. In October 2020\, Sandro was nominated a “Rising Star” by Fierce Wireless\, a recognition for executives making a strong contribution to the wireless industry’s development. \nSandro holds a BSc degree in Electrical Engineering from Universidade de Brasilia and an Executive MBA from Fundacao Dom Cabral in Brazil. \n\nAlessandro Di Salvo\, VP\, Mobile Networks Sales Strategy & Development\, \n\nAlessandro Di Salvo grew up in Trapani\, Sicily\, and holds a Master’s Degree in Electronics Engineering from ‘Politecnico di Milano’ University. \nHis career in telecom spans 26 years beginning as an R&D telecom engineer at Siemens before joining Nokia where he has spent 18 years in Milan (Italy) and 7 years in Dallas.  Throughout his career\, Alessandro has covered positions from Customer Service to Product Marketing and Sales Management\, following various customers and representing the ‘Network’ part of Nokia business.  Although geographic responsibility for much of his career has focused on Europe and Latin America\, Alessandro also supported the first global 3G launch in Japan in 2001\, 3G activities in Australia/New Zealand in 2003 and business development in Central Asia in 2014. \nAlessandro is currently VP Sales at Nokia\, heading the Mobile Network Sales Strategy and Development function for Americas region. \n\nMatthew Wingo\, Sr Manager\, National Development Strategy\, \n\nAs a leader in T-Mobile’s National Development activities\, Matthew Wingo brings over 22 years of industry experience in developing wireless networks and In-Building solutions .  Matthew’s primary focus is on Enterprise partnerships in development and application of technology for many industry verticals\, including Automotive\, Retail\, Healthcare\, Oil & Gas\, and Technology.  Specializing in DAS deployments since 2005\, Matthew has worked with many of the top brands in both the US and Canada and is passionate about identifying the unique opportunities with current and emerging technologies. \nMODERATOR \n\nClaire Burgaud\, Director\, Partners & Ecosystems Marketing\, \n\nClaire Burgaud is Manager of Partners & Ecosystems Marketing at Nokia with more than 25 years of experience in management & IT consulting\, business development\, and sales & marketing for leading companies across diverse B2B industries. With ample engineering and marketing expertise\, she thrives in fast-paced environments that leverage new technologies\, co-creation\, innovation\, and diversity. She is currently based in Dallas\, Texas\, and spends her free time volunteering for the Dallas International School as PTO board member\, the European American Chamber of Commerce Texas and the Ecole Centrale Paris in France.
URL:https://www.eacctx.com/2event/eurotech-talks-5g-for-good-the-benefits-for-business-and-society/
LOCATION:Zoom Webinar
CATEGORIES:events
ORGANIZER;CN="EACC Texas":MAILTO:info@eacctx.com
END:VEVENT
END:VCALENDAR