BEGIN:VCALENDAR
VERSION:2.0
PRODID:-//European American Chamber of Commerce Texas [EACCTX] | Your Partner for Transatlantic Business Resources - ECPv6.15.20//NONSGML v1.0//EN
CALSCALE:GREGORIAN
METHOD:PUBLISH
X-WR-CALNAME:European American Chamber of Commerce Texas [EACCTX] | Your Partner for Transatlantic Business Resources
X-ORIGINAL-URL:https://www.eacctx.com
X-WR-CALDESC:Events for European American Chamber of Commerce Texas [EACCTX] | Your Partner for Transatlantic Business Resources
REFRESH-INTERVAL;VALUE=DURATION:PT1H
X-Robots-Tag:noindex
X-PUBLISHED-TTL:PT1H
BEGIN:VTIMEZONE
TZID:America/New_York
BEGIN:DAYLIGHT
TZOFFSETFROM:-0500
TZOFFSETTO:-0400
TZNAME:EDT
DTSTART:20200308T070000
END:DAYLIGHT
BEGIN:STANDARD
TZOFFSETFROM:-0400
TZOFFSETTO:-0500
TZNAME:EST
DTSTART:20201101T060000
END:STANDARD
BEGIN:DAYLIGHT
TZOFFSETFROM:-0500
TZOFFSETTO:-0400
TZNAME:EDT
DTSTART:20210314T070000
END:DAYLIGHT
BEGIN:STANDARD
TZOFFSETFROM:-0400
TZOFFSETTO:-0500
TZNAME:EST
DTSTART:20211107T060000
END:STANDARD
BEGIN:DAYLIGHT
TZOFFSETFROM:-0500
TZOFFSETTO:-0400
TZNAME:EDT
DTSTART:20220313T070000
END:DAYLIGHT
BEGIN:STANDARD
TZOFFSETFROM:-0400
TZOFFSETTO:-0500
TZNAME:EST
DTSTART:20221106T060000
END:STANDARD
END:VTIMEZONE
BEGIN:VEVENT
DTSTART;TZID=America/New_York:20210623T080000
DTEND;TZID=America/New_York:20210623T090000
DTSTAMP:20260423T031211
CREATED:20210525T191644Z
LAST-MODIFIED:20210618T175341Z
UID:43436-1624435200-1624438800@www.eacctx.com
SUMMARY:Talent Acquisition and Development Practices in the U.S. and Europe
DESCRIPTION:Join the EACC and Gilman Partners to learn about some of the current hiring and talent development practices in the U.S.\, how they might differ from those of European-based organizations\, and how hiring practices are adapted when hiring internationally. Julie George and Angel Beets from Gilman Partners will lead the discussion around current U.S. trends and facilitate a discussion with executive leaders and HR representatives from several EACC member companies. \nWe will explore the complexities of hiring in the U.S. when practices are different and sometimes dictated from the corporate offices in Europe. \n  \nFree for EACC Members and non-members. \n  \nREGISTER HERE \n  \nFeatured Speakers:\n\nAngel Beets\nCo-Managing Partner\nGilman Partners \n\nJulie George\nPartner\nGilman Partners
URL:https://www.eacctx.com/2event/talent-acquisition-and-development-practices-in-the-u-s-and-europe-webinar/
LOCATION:Online
CATEGORIES:Partner Events
END:VEVENT
END:VCALENDAR