BEGIN:VCALENDAR
VERSION:2.0
PRODID:-//European American Chamber of Commerce Texas [EACCTX] | Your Partner for Transatlantic Business Resources - ECPv6.15.20//NONSGML v1.0//EN
CALSCALE:GREGORIAN
METHOD:PUBLISH
X-ORIGINAL-URL:https://www.eacctx.com
X-WR-CALDESC:Events for European American Chamber of Commerce Texas [EACCTX] | Your Partner for Transatlantic Business Resources
REFRESH-INTERVAL;VALUE=DURATION:PT1H
X-Robots-Tag:noindex
X-PUBLISHED-TTL:PT1H
BEGIN:VTIMEZONE
TZID:America/New_York
BEGIN:DAYLIGHT
TZOFFSETFROM:-0500
TZOFFSETTO:-0400
TZNAME:EDT
DTSTART:20200308T070000
END:DAYLIGHT
BEGIN:STANDARD
TZOFFSETFROM:-0400
TZOFFSETTO:-0500
TZNAME:EST
DTSTART:20201101T060000
END:STANDARD
BEGIN:DAYLIGHT
TZOFFSETFROM:-0500
TZOFFSETTO:-0400
TZNAME:EDT
DTSTART:20210314T070000
END:DAYLIGHT
BEGIN:STANDARD
TZOFFSETFROM:-0400
TZOFFSETTO:-0500
TZNAME:EST
DTSTART:20211107T060000
END:STANDARD
BEGIN:DAYLIGHT
TZOFFSETFROM:-0500
TZOFFSETTO:-0400
TZNAME:EDT
DTSTART:20220313T070000
END:DAYLIGHT
BEGIN:STANDARD
TZOFFSETFROM:-0400
TZOFFSETTO:-0500
TZNAME:EST
DTSTART:20221106T060000
END:STANDARD
END:VTIMEZONE
BEGIN:VTIMEZONE
TZID:America/Chicago
BEGIN:DAYLIGHT
TZOFFSETFROM:-0600
TZOFFSETTO:-0500
TZNAME:CDT
DTSTART:20200308T080000
END:DAYLIGHT
BEGIN:STANDARD
TZOFFSETFROM:-0500
TZOFFSETTO:-0600
TZNAME:CST
DTSTART:20201101T070000
END:STANDARD
BEGIN:DAYLIGHT
TZOFFSETFROM:-0600
TZOFFSETTO:-0500
TZNAME:CDT
DTSTART:20210314T080000
END:DAYLIGHT
BEGIN:STANDARD
TZOFFSETFROM:-0500
TZOFFSETTO:-0600
TZNAME:CST
DTSTART:20211107T070000
END:STANDARD
BEGIN:DAYLIGHT
TZOFFSETFROM:-0600
TZOFFSETTO:-0500
TZNAME:CDT
DTSTART:20220313T080000
END:DAYLIGHT
BEGIN:STANDARD
TZOFFSETFROM:-0500
TZOFFSETTO:-0600
TZNAME:CST
DTSTART:20221106T070000
END:STANDARD
END:VTIMEZONE
BEGIN:VEVENT
DTSTART;TZID=America/New_York:20210616T110000
DTEND;TZID=America/New_York:20210616T120000
DTSTAMP:20260423T031224
CREATED:20210525T175946Z
LAST-MODIFIED:20210609T003325Z
UID:43433-1623841200-1623844800@www.eacctx.com
SUMMARY:The Power Of Transatlantic Cooperation: How EU & US Innovators Joined Forces In The Fight Against The Pandemic
DESCRIPTION:The pandemic has highlighted the importance of private sector and public private partnerships in developing vaccines\, therapeutics and other medical products in response to COVID-19 and various European and American companies are jointly contributing to the solution. The pandemic also exposed the need for secure global supply chains for PPE and medical devices and exposed the over-dependence of third world countries. \nThe panel will discuss the following topics:\n● The pandemic highlighted the important role of private sector and public private partnerships in response to COVID-19; in developing vaccines\, therapeutics\, and other medical products.\n● A wide range of European and American companies are jointly contributing to the solution.\n● The pandemic exposed the need for a secure global supply chain of PPEs and medical devices\, and exposed the over-dependence on third countries.\n● Countries follow widely different approaches\, regarding testing\, lock-downs etc.\n● Fighting disinformation regarding the disease and the vaccine. \nJoin us for a discussion with executives and officials who worked on the front line of the Covid pandemic and hear how they made the impossible possible and created alliances across the Atlantic to tackle this crisis in ways none of them had thought possible before the pandemic. \nHear about challenges they faced and how they addressed these obstacles together with newly found partners on the other side of the Atlantic. Their experience is a testament to the strength of EU-US collaboration\, join us and hear how they did it! \nSPEAKERS:\n● Peter Gajdos\, Executive Chairman\, CHIRANA\n● Robert Langer\, Koch Institute Professor\, MIT/LANGER LAB\n● Elaine Brennan\, Vice President\, International\, NORTHWELL HOLDINGS AND VENTURES\n● Gareth Hagan\, Deputy CEO. OCO GLOBAL [Moderator] \n  \nFree for EACC Members and non-members. \n  \nREGISTER HERE \n  \nThis webinar is organized in cooperation with:
URL:https://www.eacctx.com/2event/the-power-of-transatlantic-cooperation-how-eu-us-innovators-joined-forces-in-the-fight-against-the-pandemic/
LOCATION:Online
END:VEVENT
BEGIN:VEVENT
DTSTART;TZID=America/Chicago:20210616T120000
DTEND;TZID=America/Chicago:20210616T130000
DTSTAMP:20260423T031224
CREATED:20210607T164008Z
LAST-MODIFIED:20210607T164008Z
UID:43482-1623844800-1623848400@www.eacctx.com
SUMMARY:Reshoring...Leading the Trend in Evaluating and Reengineering Supply Chains in 2021
DESCRIPTION:The International Division of the Richardson Chamber of Commerce and its partner organizations present: Reshoring…Leading the Trend in Evaluating and Reengineering Supply Chains in 2021\n\nReshoring is the practice of bringing manufacturing and services back to the U.S. from overseas. Texas\, in particular\, has been a top destination for jobs coming back stateside as a result of reshoring.\n\nFor more information and to register\, click here\n\n\nSponsored by some of our members
URL:https://www.eacctx.com/2event/reshoring-leading-the-trend-in-evaluating-and-reengineering-supply-chains-in-2021/
LOCATION:Online
CATEGORIES:Partner Events
END:VEVENT
END:VCALENDAR