BEGIN:VCALENDAR
VERSION:2.0
PRODID:-//European American Chamber of Commerce Texas [EACCTX] | Your Partner for Transatlantic Business Resources - ECPv6.15.20//NONSGML v1.0//EN
CALSCALE:GREGORIAN
METHOD:PUBLISH
X-WR-CALNAME:European American Chamber of Commerce Texas [EACCTX] | Your Partner for Transatlantic Business Resources
X-ORIGINAL-URL:https://www.eacctx.com
X-WR-CALDESC:Events for European American Chamber of Commerce Texas [EACCTX] | Your Partner for Transatlantic Business Resources
REFRESH-INTERVAL;VALUE=DURATION:PT1H
X-Robots-Tag:noindex
X-PUBLISHED-TTL:PT1H
BEGIN:VTIMEZONE
TZID:America/New_York
BEGIN:DAYLIGHT
TZOFFSETFROM:-0500
TZOFFSETTO:-0400
TZNAME:EDT
DTSTART:20200308T070000
END:DAYLIGHT
BEGIN:STANDARD
TZOFFSETFROM:-0400
TZOFFSETTO:-0500
TZNAME:EST
DTSTART:20201101T060000
END:STANDARD
BEGIN:DAYLIGHT
TZOFFSETFROM:-0500
TZOFFSETTO:-0400
TZNAME:EDT
DTSTART:20210314T070000
END:DAYLIGHT
BEGIN:STANDARD
TZOFFSETFROM:-0400
TZOFFSETTO:-0500
TZNAME:EST
DTSTART:20211107T060000
END:STANDARD
BEGIN:DAYLIGHT
TZOFFSETFROM:-0500
TZOFFSETTO:-0400
TZNAME:EDT
DTSTART:20220313T070000
END:DAYLIGHT
BEGIN:STANDARD
TZOFFSETFROM:-0400
TZOFFSETTO:-0500
TZNAME:EST
DTSTART:20221106T060000
END:STANDARD
END:VTIMEZONE
BEGIN:VEVENT
DTSTART;TZID=America/New_York:20210505T100000
DTEND;TZID=America/New_York:20210505T110000
DTSTAMP:20260423T044144
CREATED:20210429T000126Z
LAST-MODIFIED:20210429T000126Z
UID:43273-1620208800-1620212400@www.eacctx.com
SUMMARY:COVID-19\, A Hard Look Back & A Look Ahead: Lessons learned and what needs to change to be more resilient for the next pandemic
DESCRIPTION:From an Economic & Government standpoint: which measures have worked to address the COVID-19 Pandemic and which ones did not and why? Looking ahead what will be the long-term fall out of the COVID-19 pandemic and how can it be mitigated.\n● What structural changes need to be put into place to manage the next pandemic/major crises (health or environmental)?\n● How did COVID-19 affect us as societies both in the EU & the U.S?\n● Getting back to work: how are countries/states tackling this issue and how are they doing?\nSPEAKERS:\n● Magdalena Andersson\, Swedish Minister for Finance\n● Pierre Moscovici\, Former European Commissioner for Economic & Financial Affairs\, Taxation and customs\n● Rolf Alter\, Economist\, Fellow\, HERTIE SCHOOL OF GOVERNANCE\n● Eduardo Porter\, Economic Scene Columnist\, THE NEW YORK TIMES [Moderator] \nTIME:\n10:00am EDT / 16:00 CET \nREGISTRATION FEE:\nEACCNY Members: Free\nEACCNY non-Members: Free \nREGISTER
URL:https://www.eacctx.com/2event/covid-19-a-hard-look-back-a-look-ahead-lessons-learned-and-what-needs-to-change-to-be-more-resilient-for-the-next-pandemic/
CATEGORIES:Partner Events
END:VEVENT
END:VCALENDAR